BEGIN:VCALENDAR
VERSION:2.0
PRODID:-//Grantham Preparatory International School - ECPv6.15.17//NONSGML v1.0//EN
CALSCALE:GREGORIAN
METHOD:PUBLISH
X-WR-CALNAME:Grantham Preparatory International School
X-ORIGINAL-URL:https://tgps.co.uk
X-WR-CALDESC:Events for Grantham Preparatory International School
REFRESH-INTERVAL;VALUE=DURATION:PT1H
X-Robots-Tag:noindex
X-PUBLISHED-TTL:PT1H
BEGIN:VTIMEZONE
TZID:Europe/London
BEGIN:DAYLIGHT
TZOFFSETFROM:+0000
TZOFFSETTO:+0100
TZNAME:BST
DTSTART:20170326T010000
END:DAYLIGHT
BEGIN:STANDARD
TZOFFSETFROM:+0100
TZOFFSETTO:+0000
TZNAME:GMT
DTSTART:20171029T010000
END:STANDARD
BEGIN:DAYLIGHT
TZOFFSETFROM:+0000
TZOFFSETTO:+0100
TZNAME:BST
DTSTART:20180325T010000
END:DAYLIGHT
BEGIN:STANDARD
TZOFFSETFROM:+0100
TZOFFSETTO:+0000
TZNAME:GMT
DTSTART:20181028T010000
END:STANDARD
BEGIN:DAYLIGHT
TZOFFSETFROM:+0000
TZOFFSETTO:+0100
TZNAME:BST
DTSTART:20190331T010000
END:DAYLIGHT
BEGIN:STANDARD
TZOFFSETFROM:+0100
TZOFFSETTO:+0000
TZNAME:GMT
DTSTART:20191027T010000
END:STANDARD
END:VTIMEZONE
BEGIN:VEVENT
DTSTART;TZID=Europe/London:20181113T170000
DTEND;TZID=Europe/London:20181113T193000
DTSTAMP:20260422T225815
CREATED:20180822T134338Z
LAST-MODIFIED:20180822T134338Z
UID:12151-1542128400-1542137400@tgps.co.uk
SUMMARY:Parent's Evening
DESCRIPTION:
URL:https://tgps.co.uk/event/parents-evening/
END:VEVENT
BEGIN:VEVENT
DTSTART;VALUE=DATE:20181107
DTEND;VALUE=DATE:20181108
DTSTAMP:20260422T225815
CREATED:20180822T124414Z
LAST-MODIFIED:20180822T124414Z
UID:12149-1541548800-1541635199@tgps.co.uk
SUMMARY:U8/U9 Hockey at St Hugh's (away)
DESCRIPTION:
URL:https://tgps.co.uk/event/u8u9-hockey-at-st-hughs-away/
END:VEVENT
BEGIN:VEVENT
DTSTART;VALUE=DATE:20181107
DTEND;VALUE=DATE:20181108
DTSTAMP:20260422T225815
CREATED:20180822T124414Z
LAST-MODIFIED:20180822T124414Z
UID:12147-1541548800-1541635199@tgps.co.uk
SUMMARY:U11 Netball at Ascoughfee Hall (home)
DESCRIPTION:
URL:https://tgps.co.uk/event/u11-netball-at-ascoughfee-hall-home/
END:VEVENT
BEGIN:VEVENT
DTSTART;VALUE=DATE:20181107
DTEND;VALUE=DATE:20181108
DTSTAMP:20260422T225815
CREATED:20180822T124414Z
LAST-MODIFIED:20180822T124414Z
UID:12148-1541548800-1541635199@tgps.co.uk
SUMMARY:U8/U9 Tag Rugby at St Hugh's (away)
DESCRIPTION:
URL:https://tgps.co.uk/event/u8u9-tag-rugby-at-st-hughs-away/
END:VEVENT
BEGIN:VEVENT
DTSTART;VALUE=DATE:20181105
DTEND;VALUE=DATE:20181106
DTSTAMP:20260422T225815
CREATED:20180822T124414Z
LAST-MODIFIED:20180822T124414Z
UID:12146-1541376000-1541462399@tgps.co.uk
SUMMARY:Back to School
DESCRIPTION:
URL:https://tgps.co.uk/event/back-to-school-3/
END:VEVENT
BEGIN:VEVENT
DTSTART;VALUE=DATE:20181022
DTEND;VALUE=DATE:20181023
DTSTAMP:20260422T225815
CREATED:20180822T124414Z
LAST-MODIFIED:20180822T124414Z
UID:12145-1540166400-1540252799@tgps.co.uk
SUMMARY:Pupils return from Valencia
DESCRIPTION:
URL:https://tgps.co.uk/event/pupils-return-from-valencia/
END:VEVENT
BEGIN:VEVENT
DTSTART;VALUE=DATE:20181019
DTEND;VALUE=DATE:20181020
DTSTAMP:20260422T225815
CREATED:20180822T124414Z
LAST-MODIFIED:20180822T124414Z
UID:12144-1539907200-1539993599@tgps.co.uk
SUMMARY:School closes for Half Term
DESCRIPTION:
URL:https://tgps.co.uk/event/school-closes-for-half-term/
END:VEVENT
BEGIN:VEVENT
DTSTART;VALUE=DATE:20181018
DTEND;VALUE=DATE:20181019
DTSTAMP:20260422T225815
CREATED:20180822T124414Z
LAST-MODIFIED:20180822T124414Z
UID:12143-1539820800-1539907199@tgps.co.uk
SUMMARY:Exchange Visit to Valencia\, Spain
DESCRIPTION:
URL:https://tgps.co.uk/event/exchange-visit-to-valencia-spain/
END:VEVENT
BEGIN:VEVENT
DTSTART;VALUE=DATE:20181017
DTEND;VALUE=DATE:20181018
DTSTAMP:20260422T225815
CREATED:20180822T124414Z
LAST-MODIFIED:20180822T124414Z
UID:12142-1539734400-1539820799@tgps.co.uk
SUMMARY:U11 Hockey v Lincoln Minster (away)
DESCRIPTION:
URL:https://tgps.co.uk/event/u11-hockey-v-lincoln-minster-away/
END:VEVENT
BEGIN:VEVENT
DTSTART;VALUE=DATE:20181010
DTEND;VALUE=DATE:20181011
DTSTAMP:20260422T225815
CREATED:20180822T124413Z
LAST-MODIFIED:20180822T124413Z
UID:12141-1539129600-1539215999@tgps.co.uk
SUMMARY:U8 Tag Rugby v St Hugh's (away)
DESCRIPTION:
URL:https://tgps.co.uk/event/u8-tag-rugby-v-st-hughs-away/
END:VEVENT
BEGIN:VEVENT
DTSTART;VALUE=DATE:20181010
DTEND;VALUE=DATE:20181011
DTSTAMP:20260422T225815
CREATED:20180822T124413Z
LAST-MODIFIED:20180822T124413Z
UID:12140-1539129600-1539215999@tgps.co.uk
SUMMARY:U9 Hockey v St Hugh's (away)
DESCRIPTION:
URL:https://tgps.co.uk/event/u9-hockey-v-st-hughs-away/
END:VEVENT
BEGIN:VEVENT
DTSTART;VALUE=DATE:20181009
DTEND;VALUE=DATE:20181010
DTSTAMP:20260422T225815
CREATED:20180822T124413Z
LAST-MODIFIED:20180822T124413Z
UID:12139-1539043200-1539129599@tgps.co.uk
SUMMARY:U11/U10/U9 ISA Swimming Gala\, Walsall
DESCRIPTION:
URL:https://tgps.co.uk/event/u11u10u9-isa-swimming-gala-walsall/
END:VEVENT
BEGIN:VEVENT
DTSTART;VALUE=DATE:20181008
DTEND;VALUE=DATE:20181009
DTSTAMP:20260422T225815
CREATED:20180822T124413Z
LAST-MODIFIED:20180822T124413Z
UID:12138-1538956800-1539043199@tgps.co.uk
SUMMARY:Y6 School visit to Southwell Workhouse
DESCRIPTION:
URL:https://tgps.co.uk/event/y6-school-visit-to-southwell-workhouse/
END:VEVENT
BEGIN:VEVENT
DTSTART;VALUE=DATE:20181005
DTEND;VALUE=DATE:20181006
DTSTAMP:20260422T225815
CREATED:20180822T124413Z
LAST-MODIFIED:20180822T124413Z
UID:12137-1538697600-1538783999@tgps.co.uk
SUMMARY:Cross Country @ Brooke Priory (away)
DESCRIPTION:
URL:https://tgps.co.uk/event/cross-country-brooke-priory-away/
END:VEVENT
BEGIN:VEVENT
DTSTART;VALUE=DATE:20181003
DTEND;VALUE=DATE:20181004
DTSTAMP:20260422T225815
CREATED:20180803T134341Z
LAST-MODIFIED:20180803T134341Z
UID:11671-1538524800-1538611199@tgps.co.uk
SUMMARY:Witham Cross Country Years 3 - Years 6 (away)
DESCRIPTION:
URL:https://tgps.co.uk/event/witham-cross-country-years-3-years-6-away/
END:VEVENT
BEGIN:VEVENT
DTSTART;VALUE=DATE:20181002
DTEND;VALUE=DATE:20181003
DTSTAMP:20260422T225815
CREATED:20180803T134341Z
LAST-MODIFIED:20180803T134341Z
UID:11670-1538438400-1538524799@tgps.co.uk
SUMMARY:"Flavours of Folk" Strings Festival at Oakham
DESCRIPTION:
URL:https://tgps.co.uk/event/flavours-of-folk-strings-festival-at-oakham/
END:VEVENT
BEGIN:VEVENT
DTSTART;VALUE=DATE:20180928
DTEND;VALUE=DATE:20180929
DTSTAMP:20260422T225815
CREATED:20180822T124413Z
LAST-MODIFIED:20180822T124413Z
UID:12135-1538092800-1538179199@tgps.co.uk
SUMMARY:Gravity Fields - The Hogwallops EYFS & Reception
DESCRIPTION:
URL:https://tgps.co.uk/event/gravity-fields-the-hogwallops-eyfs-reception/
END:VEVENT
BEGIN:VEVENT
DTSTART;VALUE=DATE:20180928
DTEND;VALUE=DATE:20180929
DTSTAMP:20260422T225815
CREATED:20180822T124413Z
LAST-MODIFIED:20180822T124413Z
UID:12136-1538092800-1538179199@tgps.co.uk
SUMMARY:Gravity Fields - Look Up Y1 - Y4
DESCRIPTION:
URL:https://tgps.co.uk/event/gravity-fields-look-up-y1-y4/
END:VEVENT
BEGIN:VEVENT
DTSTART;VALUE=DATE:20180927
DTEND;VALUE=DATE:20180928
DTSTAMP:20260422T225815
CREATED:20180822T124413Z
LAST-MODIFIED:20180822T124413Z
UID:12133-1538006400-1538092799@tgps.co.uk
SUMMARY:Gravity Fields - The World Changed Here Y5 & Y6
DESCRIPTION:
URL:https://tgps.co.uk/event/gravity-fields-the-world-changed-here-y5-y6/
END:VEVENT
BEGIN:VEVENT
DTSTART;VALUE=DATE:20180927
DTEND;VALUE=DATE:20180928
DTSTAMP:20260422T225815
CREATED:20180822T124413Z
LAST-MODIFIED:20180822T124413Z
UID:12134-1538006400-1538092799@tgps.co.uk
SUMMARY:Gravity Fields - Science & Suffrage Y5 & Y6
DESCRIPTION:
URL:https://tgps.co.uk/event/gravity-fields-science-suffrage-y5-y6/
END:VEVENT
BEGIN:VEVENT
DTSTART;VALUE=DATE:20180926
DTEND;VALUE=DATE:20180927
DTSTAMP:20260422T225815
CREATED:20180822T124413Z
LAST-MODIFIED:20180822T124413Z
UID:12132-1537920000-1538006399@tgps.co.uk
SUMMARY:Gravity Fields - The Big Space Show Y2-Y6
DESCRIPTION:
URL:https://tgps.co.uk/event/gravity-fields-the-big-space-show-y2-y6/
END:VEVENT
BEGIN:VEVENT
DTSTART;VALUE=DATE:20180921
DTEND;VALUE=DATE:20180922
DTSTAMP:20260422T225815
CREATED:20180803T134341Z
LAST-MODIFIED:20180803T134341Z
UID:11669-1537488000-1537574399@tgps.co.uk
SUMMARY:U11/U9 Cross Country @ Wellow House (away)
DESCRIPTION:
URL:https://tgps.co.uk/event/u11u9-cross-country-wellow-house-away/
END:VEVENT
BEGIN:VEVENT
DTSTART;VALUE=DATE:20180921
DTEND;VALUE=DATE:20180922
DTSTAMP:20260422T225815
CREATED:20180803T125137Z
LAST-MODIFIED:20180803T125137Z
UID:11667-1537488000-1537574399@tgps.co.uk
SUMMARY:Jeans 4 Genes Day
DESCRIPTION:
URL:https://tgps.co.uk/event/jeans-4-genes-day/
END:VEVENT
BEGIN:VEVENT
DTSTART;VALUE=DATE:20180919
DTEND;VALUE=DATE:20180920
DTSTAMP:20260422T225815
CREATED:20180803T125137Z
LAST-MODIFIED:20180803T125137Z
UID:11664-1537315200-1537401599@tgps.co.uk
SUMMARY:U10 Netball v Ascoughfee Hall (home)
DESCRIPTION:
URL:https://tgps.co.uk/event/u10-netball-v-ascoughfee-hall-home/
END:VEVENT
BEGIN:VEVENT
DTSTART;VALUE=DATE:20180919
DTEND;VALUE=DATE:20180920
DTSTAMP:20260422T225815
CREATED:20180803T125137Z
LAST-MODIFIED:20180803T125137Z
UID:11665-1537315200-1537401599@tgps.co.uk
SUMMARY:U11 Hockey @ Stamford Festival (away)
DESCRIPTION:
URL:https://tgps.co.uk/event/u11-hockey-stamford-festival-away/
END:VEVENT
BEGIN:VEVENT
DTSTART;VALUE=DATE:20180919
DTEND;VALUE=DATE:20180920
DTSTAMP:20260422T225815
CREATED:20180803T125137Z
LAST-MODIFIED:20180803T125137Z
UID:11666-1537315200-1537401599@tgps.co.uk
SUMMARY:U11 Rugby @ Stamford Festival (away)
DESCRIPTION:
URL:https://tgps.co.uk/event/u11-rugby-stamford-festival-away/
END:VEVENT
BEGIN:VEVENT
DTSTART;VALUE=DATE:20180919
DTEND;VALUE=DATE:20180920
DTSTAMP:20260422T225815
CREATED:20180803T125137Z
LAST-MODIFIED:20180803T125137Z
UID:11663-1537315200-1537401599@tgps.co.uk
SUMMARY:U9 Tag Rugby v Ascoughfee Hall (home)
DESCRIPTION:
URL:https://tgps.co.uk/event/u9-tag-rugby-v-ascoughfee-hall-home/
END:VEVENT
BEGIN:VEVENT
DTSTART;VALUE=DATE:20180912
DTEND;VALUE=DATE:20180913
DTSTAMP:20260422T225815
CREATED:20180803T125137Z
LAST-MODIFIED:20180803T125137Z
UID:11660-1536710400-1536796799@tgps.co.uk
SUMMARY:U11 Rugby v Brooke Priory + Oakham (away)
DESCRIPTION:
URL:https://tgps.co.uk/event/u11-rugby-v-brooke-priory-oakham-away/
END:VEVENT
BEGIN:VEVENT
DTSTART;VALUE=DATE:20180912
DTEND;VALUE=DATE:20180913
DTSTAMP:20260422T225815
CREATED:20180803T125137Z
LAST-MODIFIED:20180803T125137Z
UID:11661-1536710400-1536796799@tgps.co.uk
SUMMARY:U11 Hockey v Brooke Priory (home)
DESCRIPTION:
URL:https://tgps.co.uk/event/u11-hockey-v-brooke-priory-home/
END:VEVENT
BEGIN:VEVENT
DTSTART;VALUE=DATE:20180912
DTEND;VALUE=DATE:20180913
DTSTAMP:20260422T225815
CREATED:20180803T125137Z
LAST-MODIFIED:20180803T125137Z
UID:11662-1536710400-1536796799@tgps.co.uk
SUMMARY:RAF 100 Paper Planes Challenge
DESCRIPTION:
URL:https://tgps.co.uk/event/raf-100-paper-planes-challenge/
END:VEVENT
END:VCALENDAR