BEGIN:VCALENDAR
VERSION:2.0
PRODID:-//Grantham Preparatory International School - ECPv6.15.17//NONSGML v1.0//EN
CALSCALE:GREGORIAN
METHOD:PUBLISH
X-ORIGINAL-URL:https://tgps.co.uk
X-WR-CALDESC:Events for Grantham Preparatory International School
REFRESH-INTERVAL;VALUE=DURATION:PT1H
X-Robots-Tag:noindex
X-PUBLISHED-TTL:PT1H
BEGIN:VTIMEZONE
TZID:Europe/London
BEGIN:DAYLIGHT
TZOFFSETFROM:+0000
TZOFFSETTO:+0100
TZNAME:BST
DTSTART:20170326T010000
END:DAYLIGHT
BEGIN:STANDARD
TZOFFSETFROM:+0100
TZOFFSETTO:+0000
TZNAME:GMT
DTSTART:20171029T010000
END:STANDARD
BEGIN:DAYLIGHT
TZOFFSETFROM:+0000
TZOFFSETTO:+0100
TZNAME:BST
DTSTART:20180325T010000
END:DAYLIGHT
BEGIN:STANDARD
TZOFFSETFROM:+0100
TZOFFSETTO:+0000
TZNAME:GMT
DTSTART:20181028T010000
END:STANDARD
BEGIN:DAYLIGHT
TZOFFSETFROM:+0000
TZOFFSETTO:+0100
TZNAME:BST
DTSTART:20190331T010000
END:DAYLIGHT
BEGIN:STANDARD
TZOFFSETFROM:+0100
TZOFFSETTO:+0000
TZNAME:GMT
DTSTART:20191027T010000
END:STANDARD
BEGIN:DAYLIGHT
TZOFFSETFROM:+0000
TZOFFSETTO:+0100
TZNAME:BST
DTSTART:20200329T010000
END:DAYLIGHT
BEGIN:STANDARD
TZOFFSETFROM:+0100
TZOFFSETTO:+0000
TZNAME:GMT
DTSTART:20201025T010000
END:STANDARD
END:VTIMEZONE
BEGIN:VEVENT
DTSTART;TZID=Europe/London:20181113T170000
DTEND;TZID=Europe/London:20181113T193000
DTSTAMP:20260422T230345
CREATED:20180822T134338Z
LAST-MODIFIED:20180822T134338Z
UID:12151-1542128400-1542137400@tgps.co.uk
SUMMARY:Parent's Evening
DESCRIPTION:
URL:https://tgps.co.uk/event/parents-evening/
END:VEVENT
BEGIN:VEVENT
DTSTART;VALUE=DATE:20181114
DTEND;VALUE=DATE:20181115
DTSTAMP:20260422T230345
CREATED:20180822T134338Z
LAST-MODIFIED:20180822T134338Z
UID:12152-1542153600-1542239999@tgps.co.uk
SUMMARY:U11 Rugby v Wellow House (away)
DESCRIPTION:
URL:https://tgps.co.uk/event/u11-rugby-v-wellow-house-away/
END:VEVENT
BEGIN:VEVENT
DTSTART;VALUE=DATE:20181114
DTEND;VALUE=DATE:20181115
DTSTAMP:20260422T230345
CREATED:20180822T134338Z
LAST-MODIFIED:20180822T134338Z
UID:12153-1542153600-1542239999@tgps.co.uk
SUMMARY:U9 Hockey v. Wellow House (away)
DESCRIPTION:
URL:https://tgps.co.uk/event/u9-hockey-v-wellow-house-away/
END:VEVENT
BEGIN:VEVENT
DTSTART;VALUE=DATE:20181115
DTEND;VALUE=DATE:20181116
DTSTAMP:20260422T230345
CREATED:20180822T134338Z
LAST-MODIFIED:20180822T134338Z
UID:12154-1542240000-1542326399@tgps.co.uk
SUMMARY:Individual Photographs - Kittle photographers
DESCRIPTION:
URL:https://tgps.co.uk/event/individual-photographs-kittle-photographers/
END:VEVENT
BEGIN:VEVENT
DTSTART;TZID=Europe/London:20181115T170000
DTEND;TZID=Europe/London:20181115T193000
DTSTAMP:20260422T230345
CREATED:20180822T134338Z
LAST-MODIFIED:20180822T134338Z
UID:12155-1542301200-1542310200@tgps.co.uk
SUMMARY:Parent's Evening
DESCRIPTION:
URL:https://tgps.co.uk/event/parents-evening-2/
END:VEVENT
BEGIN:VEVENT
DTSTART;VALUE=DATE:20181116
DTEND;VALUE=DATE:20181117
DTSTAMP:20260422T230345
CREATED:20180822T134339Z
LAST-MODIFIED:20180822T134339Z
UID:12156-1542326400-1542412799@tgps.co.uk
SUMMARY:Inter-House Recitation
DESCRIPTION:
URL:https://tgps.co.uk/event/inter-house-recitation/
END:VEVENT
BEGIN:VEVENT
DTSTART;VALUE=DATE:20181121
DTEND;VALUE=DATE:20181122
DTSTAMP:20260422T230345
CREATED:20180822T134339Z
LAST-MODIFIED:20180822T134339Z
UID:12157-1542758400-1542844799@tgps.co.uk
SUMMARY:U11 Hockey v St Hugh's
DESCRIPTION:
URL:https://tgps.co.uk/event/u11-hockey-v-st-hughs/
END:VEVENT
BEGIN:VEVENT
DTSTART;VALUE=DATE:20181122
DTEND;VALUE=DATE:20181123
DTSTAMP:20260422T230345
CREATED:20180822T134339Z
LAST-MODIFIED:20180822T134339Z
UID:12158-1542844800-1542931199@tgps.co.uk
SUMMARY:Y4 visit to The Collection\, Lincoln
DESCRIPTION:
URL:https://tgps.co.uk/event/y4-visit-to-the-collection-lincoln/
END:VEVENT
BEGIN:VEVENT
DTSTART;VALUE=DATE:20181128
DTEND;VALUE=DATE:20181129
DTSTAMP:20260422T230345
CREATED:20180822T134339Z
LAST-MODIFIED:20180822T134339Z
UID:12159-1543363200-1543449599@tgps.co.uk
SUMMARY:U11/U10/U9 Cross Country at Highfields
DESCRIPTION:
URL:https://tgps.co.uk/event/u11u10u9-cross-country-at-highfields/
END:VEVENT
BEGIN:VEVENT
DTSTART;VALUE=DATE:20181128
DTEND;VALUE=DATE:20181129
DTSTAMP:20260422T230345
CREATED:20180822T134339Z
LAST-MODIFIED:20180822T134339Z
UID:12160-1543363200-1543449599@tgps.co.uk
SUMMARY:U11/U10/U9 Netball v Peterborough (home)
DESCRIPTION:
URL:https://tgps.co.uk/event/u11u10u9-netball-v-peterborough-home/
END:VEVENT
BEGIN:VEVENT
DTSTART;VALUE=DATE:20181129
DTEND;VALUE=DATE:20181130
DTSTAMP:20260422T230345
CREATED:20180822T134339Z
LAST-MODIFIED:20180822T134339Z
UID:12161-1543449600-1543535999@tgps.co.uk
SUMMARY:Pupils from Valencia arrive
DESCRIPTION:
URL:https://tgps.co.uk/event/pupils-from-valencia-arrive/
END:VEVENT
BEGIN:VEVENT
DTSTART;VALUE=DATE:20181129
DTEND;VALUE=DATE:20181130
DTSTAMP:20260422T230345
CREATED:20180822T134339Z
LAST-MODIFIED:20180822T134339Z
UID:12162-1543449600-1543535999@tgps.co.uk
SUMMARY:Y6 visit to Royal Academy of Arts
DESCRIPTION:
URL:https://tgps.co.uk/event/y6-visit-to-royal-academy-of-arts/
END:VEVENT
BEGIN:VEVENT
DTSTART;VALUE=DATE:20181205
DTEND;VALUE=DATE:20181206
DTSTAMP:20260422T230345
CREATED:20180822T134339Z
LAST-MODIFIED:20180822T134339Z
UID:12163-1543968000-1544054399@tgps.co.uk
SUMMARY:U11 Rugby v St Hugh's (home)
DESCRIPTION:
URL:https://tgps.co.uk/event/u11-rugby-v-st-hughs-home/
END:VEVENT
BEGIN:VEVENT
DTSTART;VALUE=DATE:20181210
DTEND;VALUE=DATE:20181211
DTSTAMP:20260422T230345
CREATED:20180822T134339Z
LAST-MODIFIED:20180822T134339Z
UID:12164-1544400000-1544486399@tgps.co.uk
SUMMARY:School Christmas Dinner
DESCRIPTION:
URL:https://tgps.co.uk/event/school-christmas-dinner/
END:VEVENT
BEGIN:VEVENT
DTSTART;VALUE=DATE:20181210
DTEND;VALUE=DATE:20181211
DTSTAMP:20260422T230345
CREATED:20180822T134340Z
LAST-MODIFIED:20180822T134340Z
UID:12165-1544400000-1544486399@tgps.co.uk
SUMMARY:Christingle Service
DESCRIPTION:
URL:https://tgps.co.uk/event/christingle-service/
END:VEVENT
BEGIN:VEVENT
DTSTART;VALUE=DATE:20181211
DTEND;VALUE=DATE:20181212
DTSTAMP:20260422T230345
CREATED:20180822T134340Z
LAST-MODIFIED:20180822T134340Z
UID:12166-1544486400-1544572799@tgps.co.uk
SUMMARY:School Nativity
DESCRIPTION:
URL:https://tgps.co.uk/event/school-nativity/
END:VEVENT
BEGIN:VEVENT
DTSTART;VALUE=DATE:20181212
DTEND;VALUE=DATE:20181213
DTSTAMP:20260422T230345
CREATED:20180822T134340Z
LAST-MODIFIED:20180822T134340Z
UID:12167-1544572800-1544659199@tgps.co.uk
SUMMARY:School Nativity
DESCRIPTION:
URL:https://tgps.co.uk/event/school-nativity-2/
END:VEVENT
BEGIN:VEVENT
DTSTART;VALUE=DATE:20181213
DTEND;VALUE=DATE:20181214
DTSTAMP:20260422T230345
CREATED:20180822T134340Z
LAST-MODIFIED:20180822T134340Z
UID:12168-1544659200-1544745599@tgps.co.uk
SUMMARY:Christmas Parties
DESCRIPTION:
URL:https://tgps.co.uk/event/christmas-parties/
END:VEVENT
BEGIN:VEVENT
DTSTART;VALUE=DATE:20181214
DTEND;VALUE=DATE:20181215
DTSTAMP:20260422T230345
CREATED:20180822T134340Z
LAST-MODIFIED:20180822T134340Z
UID:12169-1544745600-1544831999@tgps.co.uk
SUMMARY:Christmas Carol Service
DESCRIPTION:
URL:https://tgps.co.uk/event/christmas-carol-service/
END:VEVENT
BEGIN:VEVENT
DTSTART;TZID=Europe/London:20181214T123000
DTEND;TZID=Europe/London:20181214T133000
DTSTAMP:20260422T230345
CREATED:20180822T134340Z
LAST-MODIFIED:20180822T134340Z
UID:12170-1544790600-1544794200@tgps.co.uk
SUMMARY:School finishes
DESCRIPTION:
URL:https://tgps.co.uk/event/school-finishes/
END:VEVENT
BEGIN:VEVENT
DTSTART;VALUE=DATE:20181217
DTEND;VALUE=DATE:20181222
DTSTAMP:20260422T230345
CREATED:20180822T134340Z
LAST-MODIFIED:20180822T134340Z
UID:12171-1545004800-1545436799@tgps.co.uk
SUMMARY:Activity Camp
DESCRIPTION:
URL:https://tgps.co.uk/event/activity-camp/
END:VEVENT
BEGIN:VEVENT
DTSTART;VALUE=DATE:20190107
DTEND;VALUE=DATE:20190108
DTSTAMP:20260422T230345
CREATED:20180822T134340Z
LAST-MODIFIED:20180822T134340Z
UID:12172-1546819200-1546905599@tgps.co.uk
SUMMARY:Back to School
DESCRIPTION:
URL:https://tgps.co.uk/event/back-to-school-4/
END:VEVENT
BEGIN:VEVENT
DTSTART;VALUE=DATE:20190204
DTEND;VALUE=DATE:20190205
DTSTAMP:20260422T230345
CREATED:20180822T134340Z
LAST-MODIFIED:20180822T134340Z
UID:12173-1549238400-1549324799@tgps.co.uk
SUMMARY:Young Shakespeare Comany - Hamlet
DESCRIPTION:
URL:https://tgps.co.uk/event/young-shakespeare-comany-hamlet/
END:VEVENT
BEGIN:VEVENT
DTSTART;VALUE=DATE:20190215
DTEND;VALUE=DATE:20190216
DTSTAMP:20260422T230345
CREATED:20180822T134340Z
LAST-MODIFIED:20180822T134340Z
UID:12174-1550188800-1550275199@tgps.co.uk
SUMMARY:School breaks up for Half Term
DESCRIPTION:
URL:https://tgps.co.uk/event/school-breaks-up-for-half-term/
END:VEVENT
BEGIN:VEVENT
DTSTART;VALUE=DATE:20190216
DTEND;VALUE=DATE:20190225
DTSTAMP:20260422T230345
CREATED:20180822T134341Z
LAST-MODIFIED:20180822T134341Z
UID:12175-1550275200-1551052799@tgps.co.uk
SUMMARY:Half Term Holiday
DESCRIPTION:
URL:https://tgps.co.uk/event/half-term-holiday/
END:VEVENT
BEGIN:VEVENT
DTSTART;VALUE=DATE:20190225
DTEND;VALUE=DATE:20190226
DTSTAMP:20260422T230345
CREATED:20180822T134341Z
LAST-MODIFIED:20180822T134341Z
UID:12176-1551052800-1551139199@tgps.co.uk
SUMMARY:Back to School
DESCRIPTION:
URL:https://tgps.co.uk/event/back-to-school-5/
END:VEVENT
BEGIN:VEVENT
DTSTART;VALUE=DATE:20190315
DTEND;VALUE=DATE:20190316
DTSTAMP:20260422T230345
CREATED:20180822T134341Z
LAST-MODIFIED:20180822T134341Z
UID:12177-1552608000-1552694399@tgps.co.uk
SUMMARY:Red Nose Day
DESCRIPTION:
URL:https://tgps.co.uk/event/red-nose-day/
END:VEVENT
BEGIN:VEVENT
DTSTART;VALUE=DATE:20190318
DTEND;VALUE=DATE:20190319
DTSTAMP:20260422T230345
CREATED:20180822T134341Z
LAST-MODIFIED:20180822T134341Z
UID:12178-1552867200-1552953599@tgps.co.uk
SUMMARY:Inter-House Swimming Gala
DESCRIPTION:
URL:https://tgps.co.uk/event/inter-house-swimming-gala/
END:VEVENT
BEGIN:VEVENT
DTSTART;VALUE=DATE:20190320
DTEND;VALUE=DATE:20190321
DTSTAMP:20260422T230345
CREATED:20190319T134317Z
LAST-MODIFIED:20190319T134317Z
UID:17432-1553040000-1553126399@tgps.co.uk
SUMMARY:Cross Country at Ascoughfee Hall
DESCRIPTION:
URL:https://tgps.co.uk/event/cross-country-at-ascoughfee-hall/
END:VEVENT
BEGIN:VEVENT
DTSTART;VALUE=DATE:20190321
DTEND;VALUE=DATE:20190322
DTSTAMP:20260422T230345
CREATED:20190319T134318Z
LAST-MODIFIED:20190319T134318Z
UID:17433-1553126400-1553212799@tgps.co.uk
SUMMARY:U11 G&D Hi 5 Netball Festival
DESCRIPTION:
URL:https://tgps.co.uk/event/u11-gd-hi-5-netball-festival/
END:VEVENT
END:VCALENDAR