BEGIN:VCALENDAR
VERSION:2.0
PRODID:-//Grantham Preparatory International School - ECPv6.15.17//NONSGML v1.0//EN
CALSCALE:GREGORIAN
METHOD:PUBLISH
X-ORIGINAL-URL:https://tgps.co.uk
X-WR-CALDESC:Events for Grantham Preparatory International School
REFRESH-INTERVAL;VALUE=DURATION:PT1H
X-Robots-Tag:noindex
X-PUBLISHED-TTL:PT1H
BEGIN:VTIMEZONE
TZID:Europe/London
BEGIN:DAYLIGHT
TZOFFSETFROM:+0000
TZOFFSETTO:+0100
TZNAME:BST
DTSTART:20180325T010000
END:DAYLIGHT
BEGIN:STANDARD
TZOFFSETFROM:+0100
TZOFFSETTO:+0000
TZNAME:GMT
DTSTART:20181028T010000
END:STANDARD
BEGIN:DAYLIGHT
TZOFFSETFROM:+0000
TZOFFSETTO:+0100
TZNAME:BST
DTSTART:20190331T010000
END:DAYLIGHT
BEGIN:STANDARD
TZOFFSETFROM:+0100
TZOFFSETTO:+0000
TZNAME:GMT
DTSTART:20191027T010000
END:STANDARD
BEGIN:DAYLIGHT
TZOFFSETFROM:+0000
TZOFFSETTO:+0100
TZNAME:BST
DTSTART:20200329T010000
END:DAYLIGHT
BEGIN:STANDARD
TZOFFSETFROM:+0100
TZOFFSETTO:+0000
TZNAME:GMT
DTSTART:20201025T010000
END:STANDARD
BEGIN:DAYLIGHT
TZOFFSETFROM:+0000
TZOFFSETTO:+0100
TZNAME:BST
DTSTART:20210328T010000
END:DAYLIGHT
BEGIN:STANDARD
TZOFFSETFROM:+0100
TZOFFSETTO:+0000
TZNAME:GMT
DTSTART:20211031T010000
END:STANDARD
END:VTIMEZONE
BEGIN:VEVENT
DTSTART;VALUE=DATE:20191213
DTEND;VALUE=DATE:20191214
DTSTAMP:20260422T230640
CREATED:20190807T144455Z
LAST-MODIFIED:20190807T144455Z
UID:20968-1576195200-1576281599@tgps.co.uk
SUMMARY:Xmas Jumper Day
DESCRIPTION:
URL:https://tgps.co.uk/event/xmas-jumper-day/
END:VEVENT
BEGIN:VEVENT
DTSTART;VALUE=DATE:20191213
DTEND;VALUE=DATE:20191214
DTSTAMP:20260422T230640
CREATED:20190807T144456Z
LAST-MODIFIED:20190807T144456Z
UID:20969-1576195200-1576281599@tgps.co.uk
SUMMARY:Carol Service in School
DESCRIPTION:
URL:https://tgps.co.uk/event/carol-service-in-school/
END:VEVENT
BEGIN:VEVENT
DTSTART;TZID=Europe/London:20191213T120000
DTEND;TZID=Europe/London:20191213T123000
DTSTAMP:20260422T230640
CREATED:20190807T144456Z
LAST-MODIFIED:20190807T144456Z
UID:20970-1576238400-1576240200@tgps.co.uk
SUMMARY:School closes
DESCRIPTION:
URL:https://tgps.co.uk/event/school-closes/
END:VEVENT
BEGIN:VEVENT
DTSTART;VALUE=DATE:20191214
DTEND;VALUE=DATE:20191215
DTSTAMP:20260422T230640
CREATED:20190807T144456Z
LAST-MODIFIED:20190807T144456Z
UID:20971-1576281600-1576367999@tgps.co.uk
SUMMARY:Choir singing at Blind Society Concert\, St Wulframs
DESCRIPTION:
URL:https://tgps.co.uk/event/choir-singing-at-blind-society-concert-st-wulframs/
END:VEVENT
BEGIN:VEVENT
DTSTART;VALUE=DATE:20200107
DTEND;VALUE=DATE:20200108
DTSTAMP:20260422T230640
CREATED:20190807T154454Z
LAST-MODIFIED:20190807T154454Z
UID:20973-1578355200-1578441599@tgps.co.uk
SUMMARY:Back to School - Spring Term
DESCRIPTION:
URL:https://tgps.co.uk/event/back-to-school-spring-term/
END:VEVENT
BEGIN:VEVENT
DTSTART;TZID=Europe/London:20200121T160000
DTEND;TZID=Europe/London:20200121T170000
DTSTAMP:20260422T230640
CREATED:20200121T114719Z
LAST-MODIFIED:20200121T114719Z
UID:25081-1579622400-1579626000@tgps.co.uk
SUMMARY:Stamford Swimming Gala
DESCRIPTION:
URL:https://tgps.co.uk/event/stamford-swimming-gala/
END:VEVENT
BEGIN:VEVENT
DTSTART;VALUE=DATE:20200122
DTEND;VALUE=DATE:20200123
DTSTAMP:20260422T230640
CREATED:20200121T114719Z
LAST-MODIFIED:20200121T114719Z
UID:25082-1579651200-1579737599@tgps.co.uk
SUMMARY:U11 B Football @ Witham Hall Tournament
DESCRIPTION:
URL:https://tgps.co.uk/event/u11-b-football-witham-hall-tournament/
END:VEVENT
BEGIN:VEVENT
DTSTART;VALUE=DATE:20200122
DTEND;VALUE=DATE:20200123
DTSTAMP:20260422T230640
CREATED:20200121T114719Z
LAST-MODIFIED:20200121T114719Z
UID:25083-1579651200-1579737599@tgps.co.uk
SUMMARY:U9 Football @ St Hugh's Festival
DESCRIPTION:
URL:https://tgps.co.uk/event/u9-football-st-hughs-festival/
END:VEVENT
BEGIN:VEVENT
DTSTART;VALUE=DATE:20200122
DTEND;VALUE=DATE:20200123
DTSTAMP:20260422T230640
CREATED:20200121T144731Z
LAST-MODIFIED:20200121T144731Z
UID:25086-1579651200-1579737599@tgps.co.uk
SUMMARY:U9 Netball @ St Hugh's Festival
DESCRIPTION:
URL:https://tgps.co.uk/event/u9-netball-st-hughs-festival/
END:VEVENT
BEGIN:VEVENT
DTSTART;VALUE=DATE:20200123
DTEND;VALUE=DATE:20200124
DTSTAMP:20260422T230640
CREATED:20200121T144731Z
LAST-MODIFIED:20200121T144731Z
UID:25087-1579737600-1579823999@tgps.co.uk
SUMMARY:G & D Small School Swimming Gala\, Meres Leisure Centre
DESCRIPTION:
URL:https://tgps.co.uk/event/g-d-small-school-swimming-gala-meres-leisure-centre/
END:VEVENT
BEGIN:VEVENT
DTSTART;VALUE=DATE:20200124
DTEND;VALUE=DATE:20200125
DTSTAMP:20260422T230640
CREATED:20200121T144731Z
LAST-MODIFIED:20200121T144731Z
UID:25088-1579824000-1579910399@tgps.co.uk
SUMMARY:Qualifying County Sportshall Athletics\, Meres
DESCRIPTION:
URL:https://tgps.co.uk/event/qualifying-county-sportshall-athletics-meres/
END:VEVENT
BEGIN:VEVENT
DTSTART;VALUE=DATE:20200127
DTEND;VALUE=DATE:20200128
DTSTAMP:20260422T230640
CREATED:20200121T144731Z
LAST-MODIFIED:20200121T144731Z
UID:25089-1580083200-1580169599@tgps.co.uk
SUMMARY:Class 2 Assembly
DESCRIPTION:
URL:https://tgps.co.uk/event/class-2-assembly/
END:VEVENT
BEGIN:VEVENT
DTSTART;VALUE=DATE:20200129
DTEND;VALUE=DATE:20200130
DTSTAMP:20260422T230640
CREATED:20200121T144731Z
LAST-MODIFIED:20200121T144731Z
UID:25090-1580256000-1580342399@tgps.co.uk
SUMMARY:U11 Football v Highfields (a)
DESCRIPTION:
URL:https://tgps.co.uk/event/u11-football-v-highfields-a/
END:VEVENT
BEGIN:VEVENT
DTSTART;VALUE=DATE:20200129
DTEND;VALUE=DATE:20200130
DTSTAMP:20260422T230640
CREATED:20200121T144732Z
LAST-MODIFIED:20200121T144732Z
UID:25091-1580256000-1580342399@tgps.co.uk
SUMMARY:U11 & U10 Netball v Lincoln Minster (h)
DESCRIPTION:
URL:https://tgps.co.uk/event/u11-u10-netball-v-lincoln-minster-h/
END:VEVENT
BEGIN:VEVENT
DTSTART;VALUE=DATE:20200203
DTEND;VALUE=DATE:20200204
DTSTAMP:20260422T230640
CREATED:20200121T144732Z
LAST-MODIFIED:20200121T144732Z
UID:25092-1580688000-1580774399@tgps.co.uk
SUMMARY:The Tempest - Young Shakespeare Company
DESCRIPTION:
URL:https://tgps.co.uk/event/the-tempest-young-shakespeare-company/
END:VEVENT
BEGIN:VEVENT
DTSTART;VALUE=DATE:20200205
DTEND;VALUE=DATE:20200206
DTSTAMP:20260422T230640
CREATED:20200121T144732Z
LAST-MODIFIED:20200121T144732Z
UID:25093-1580860800-1580947199@tgps.co.uk
SUMMARY:U11 Football v Witham (a)
DESCRIPTION:
URL:https://tgps.co.uk/event/u11-football-v-witham-a/
END:VEVENT
BEGIN:VEVENT
DTSTART;VALUE=DATE:20200209
DTEND;VALUE=DATE:20200210
DTSTAMP:20260422T230640
CREATED:20200121T144732Z
LAST-MODIFIED:20200121T144732Z
UID:25094-1581206400-1581292799@tgps.co.uk
SUMMARY:Swimarathon\, Meres Leisure Centre
DESCRIPTION:
URL:https://tgps.co.uk/event/swimarathon-meres-leisure-centre/
END:VEVENT
BEGIN:VEVENT
DTSTART;VALUE=DATE:20200211
DTEND;VALUE=DATE:20200212
DTSTAMP:20260422T230640
CREATED:20200121T144732Z
LAST-MODIFIED:20200121T144732Z
UID:25095-1581379200-1581465599@tgps.co.uk
SUMMARY:Internet Safety Day
DESCRIPTION:
URL:https://tgps.co.uk/event/internet-safety-day/
END:VEVENT
BEGIN:VEVENT
DTSTART;VALUE=DATE:20200212
DTEND;VALUE=DATE:20200213
DTSTAMP:20260422T230640
CREATED:20200121T144733Z
LAST-MODIFIED:20200121T144733Z
UID:25096-1581465600-1581551999@tgps.co.uk
SUMMARY:U11 Netball v Highfields (h)
DESCRIPTION:
URL:https://tgps.co.uk/event/u11-netball-v-highfields-h/
END:VEVENT
BEGIN:VEVENT
DTSTART;VALUE=DATE:20200212
DTEND;VALUE=DATE:20200213
DTSTAMP:20260422T230640
CREATED:20200121T144733Z
LAST-MODIFIED:20200121T144733Z
UID:25097-1581465600-1581551999@tgps.co.uk
SUMMARY:U11/U9 Football v Ayscoughfee Hall (h)
DESCRIPTION:
URL:https://tgps.co.uk/event/u11-u9-football-v-ayscoughfee-hall-h/
END:VEVENT
BEGIN:VEVENT
DTSTART;VALUE=DATE:20200212
DTEND;VALUE=DATE:20200213
DTSTAMP:20260422T230640
CREATED:20200121T144733Z
LAST-MODIFIED:20200121T144733Z
UID:25098-1581465600-1581551999@tgps.co.uk
SUMMARY:U9 Netball v St Hugh's (a)
DESCRIPTION:
URL:https://tgps.co.uk/event/u9-netball-v-st-hughs-a/
END:VEVENT
BEGIN:VEVENT
DTSTART;VALUE=DATE:20200214
DTEND;VALUE=DATE:20200215
DTSTAMP:20260422T230640
CREATED:20190807T154454Z
LAST-MODIFIED:20190807T154454Z
UID:20974-1581638400-1581724799@tgps.co.uk
SUMMARY:Break up for Half Term
DESCRIPTION:
URL:https://tgps.co.uk/event/break-up-for-half-term-2/
END:VEVENT
BEGIN:VEVENT
DTSTART;VALUE=DATE:20200217
DTEND;VALUE=DATE:20200222
DTSTAMP:20260422T230640
CREATED:20190807T154454Z
LAST-MODIFIED:20190807T154454Z
UID:20975-1581897600-1582329599@tgps.co.uk
SUMMARY:Half Term Holiday
DESCRIPTION:
URL:https://tgps.co.uk/event/half-term-holiday-6/
END:VEVENT
BEGIN:VEVENT
DTSTART;VALUE=DATE:20200224
DTEND;VALUE=DATE:20200225
DTSTAMP:20260422T230640
CREATED:20190807T154455Z
LAST-MODIFIED:20190807T154455Z
UID:20976-1582502400-1582588799@tgps.co.uk
SUMMARY:Back to School
DESCRIPTION:
URL:https://tgps.co.uk/event/back-to-school-9/
END:VEVENT
BEGIN:VEVENT
DTSTART;VALUE=DATE:20200225
DTEND;VALUE=DATE:20200226
DTSTAMP:20260422T230640
CREATED:20200121T144733Z
LAST-MODIFIED:20200121T144733Z
UID:25099-1582588800-1582675199@tgps.co.uk
SUMMARY:U11 ISA Netball @ Malvern St James
DESCRIPTION:
URL:https://tgps.co.uk/event/u11-isa-netball-malvern-st-james/
END:VEVENT
BEGIN:VEVENT
DTSTART;TZID=Europe/London:20200225T090000
DTEND;TZID=Europe/London:20200225T160000
DTSTAMP:20260422T230640
CREATED:20200121T144733Z
LAST-MODIFIED:20200121T144733Z
UID:25100-1582621200-1582646400@tgps.co.uk
SUMMARY:OPEN DAY\, 9am - 4pm
DESCRIPTION:
URL:https://tgps.co.uk/event/open-day-9am-4pm/
END:VEVENT
BEGIN:VEVENT
DTSTART;VALUE=DATE:20200226
DTEND;VALUE=DATE:20200227
DTSTAMP:20260422T230640
CREATED:20200121T144734Z
LAST-MODIFIED:20200121T144734Z
UID:25101-1582675200-1582761599@tgps.co.uk
SUMMARY:U11 Netball v Witham (h)
DESCRIPTION:
URL:https://tgps.co.uk/event/u11-netball-v-witham-h/
END:VEVENT
BEGIN:VEVENT
DTSTART;VALUE=DATE:20200226
DTEND;VALUE=DATE:20200227
DTSTAMP:20260422T230640
CREATED:20200121T144734Z
LAST-MODIFIED:20200121T144734Z
UID:25102-1582675200-1582761599@tgps.co.uk
SUMMARY:U9/U10 Netball v Ayscoughfee Hall (a)
DESCRIPTION:
URL:https://tgps.co.uk/event/u9-u10-netball-v-ayscoughfee-hall-a/
END:VEVENT
BEGIN:VEVENT
DTSTART;VALUE=DATE:20200226
DTEND;VALUE=DATE:20200227
DTSTAMP:20260422T230640
CREATED:20200121T144734Z
LAST-MODIFIED:20200121T144734Z
UID:25103-1582675200-1582761599@tgps.co.uk
SUMMARY:U9 Football v St Hugh's (a)
DESCRIPTION:
URL:https://tgps.co.uk/event/u9-football-v-st-hughs-a/
END:VEVENT
BEGIN:VEVENT
DTSTART;VALUE=DATE:20200227
DTEND;VALUE=DATE:20200228
DTSTAMP:20260422T230640
CREATED:20200121T144734Z
LAST-MODIFIED:20200121T144734Z
UID:25104-1582761600-1582847999@tgps.co.uk
SUMMARY:U11 G & D Hi 5 Netball @ Priory Ruskin
DESCRIPTION:
URL:https://tgps.co.uk/event/u11-g-d-hi-5-netball-priory-ruskin/
END:VEVENT
END:VCALENDAR