BEGIN:VCALENDAR
VERSION:2.0
PRODID:-//Grantham Preparatory International School - ECPv6.15.17//NONSGML v1.0//EN
CALSCALE:GREGORIAN
METHOD:PUBLISH
X-WR-CALNAME:Grantham Preparatory International School
X-ORIGINAL-URL:https://tgps.co.uk
X-WR-CALDESC:Events for Grantham Preparatory International School
REFRESH-INTERVAL;VALUE=DURATION:PT1H
X-Robots-Tag:noindex
X-PUBLISHED-TTL:PT1H
BEGIN:VTIMEZONE
TZID:Europe/London
BEGIN:DAYLIGHT
TZOFFSETFROM:+0000
TZOFFSETTO:+0100
TZNAME:BST
DTSTART:20190331T010000
END:DAYLIGHT
BEGIN:STANDARD
TZOFFSETFROM:+0100
TZOFFSETTO:+0000
TZNAME:GMT
DTSTART:20191027T010000
END:STANDARD
BEGIN:DAYLIGHT
TZOFFSETFROM:+0000
TZOFFSETTO:+0100
TZNAME:BST
DTSTART:20200329T010000
END:DAYLIGHT
BEGIN:STANDARD
TZOFFSETFROM:+0100
TZOFFSETTO:+0000
TZNAME:GMT
DTSTART:20201025T010000
END:STANDARD
BEGIN:DAYLIGHT
TZOFFSETFROM:+0000
TZOFFSETTO:+0100
TZNAME:BST
DTSTART:20210328T010000
END:DAYLIGHT
BEGIN:STANDARD
TZOFFSETFROM:+0100
TZOFFSETTO:+0000
TZNAME:GMT
DTSTART:20211031T010000
END:STANDARD
BEGIN:DAYLIGHT
TZOFFSETFROM:+0000
TZOFFSETTO:+0100
TZNAME:BST
DTSTART:20220327T010000
END:DAYLIGHT
BEGIN:STANDARD
TZOFFSETFROM:+0100
TZOFFSETTO:+0000
TZNAME:GMT
DTSTART:20221030T010000
END:STANDARD
END:VTIMEZONE
BEGIN:VEVENT
DTSTART;VALUE=DATE:20200926
DTEND;VALUE=DATE:20200927
DTSTAMP:20260423T033541
CREATED:20200810T114259Z
LAST-MODIFIED:20200810T114259Z
UID:30102-1601078400-1601164799@tgps.co.uk
SUMMARY:11+ Examinations - verbal reasoning
DESCRIPTION:
URL:https://tgps.co.uk/event/11-examinations-verbal-reasoning/
END:VEVENT
BEGIN:VEVENT
DTSTART;VALUE=DATE:20201014
DTEND;VALUE=DATE:20201015
DTSTAMP:20260423T033541
CREATED:20200810T114300Z
LAST-MODIFIED:20200810T114300Z
UID:30103-1602633600-1602719999@tgps.co.uk
SUMMARY:Harvest Festival
DESCRIPTION:
URL:https://tgps.co.uk/event/harvest-festival/
END:VEVENT
BEGIN:VEVENT
DTSTART;VALUE=DATE:20201019
DTEND;VALUE=DATE:20201031
DTSTAMP:20260423T033541
CREATED:20200303T124311Z
LAST-MODIFIED:20200303T124311Z
UID:26171-1603065600-1604102399@tgps.co.uk
SUMMARY:Half Term Holidays
DESCRIPTION:
URL:https://tgps.co.uk/event/half-term-holidays-2/
END:VEVENT
BEGIN:VEVENT
DTSTART;VALUE=DATE:20201019
DTEND;VALUE=DATE:20201024
DTSTAMP:20260423T033541
CREATED:20200810T114301Z
LAST-MODIFIED:20200810T114301Z
UID:30104-1603065600-1603497599@tgps.co.uk
SUMMARY:Holiday Camp
DESCRIPTION:
URL:https://tgps.co.uk/event/holiday-camp-7/
END:VEVENT
BEGIN:VEVENT
DTSTART;VALUE=DATE:20201102
DTEND;VALUE=DATE:20201103
DTSTAMP:20260423T033541
CREATED:20200810T114302Z
LAST-MODIFIED:20200810T114302Z
UID:30105-1604275200-1604361599@tgps.co.uk
SUMMARY:Back to School
DESCRIPTION:
URL:https://tgps.co.uk/event/back-to-school-10/
END:VEVENT
BEGIN:VEVENT
DTSTART;VALUE=DATE:20201105
DTEND;VALUE=DATE:20201106
DTSTAMP:20260423T033541
CREATED:20200810T114303Z
LAST-MODIFIED:20200810T114303Z
UID:30106-1604534400-1604620799@tgps.co.uk
SUMMARY:Individual School Photos
DESCRIPTION:
URL:https://tgps.co.uk/event/individual-school-photos-2/
END:VEVENT
BEGIN:VEVENT
DTSTART;TZID=Europe/London:20201110T160000
DTEND;TZID=Europe/London:20201110T180000
DTSTAMP:20260423T033541
CREATED:20201023T084332Z
LAST-MODIFIED:20201023T084332Z
UID:31924-1605024000-1605031200@tgps.co.uk
SUMMARY:Parents' Evening
DESCRIPTION:
URL:https://tgps.co.uk/event/parents-evening-9/
END:VEVENT
BEGIN:VEVENT
DTSTART;TZID=Europe/London:20201110T170000
DTEND;TZID=Europe/London:20201110T193000
DTSTAMP:20260423T033541
CREATED:20200810T124323Z
LAST-MODIFIED:20200810T124323Z
UID:30114-1605027600-1605036600@tgps.co.uk
SUMMARY:Parents' Evening
DESCRIPTION:
URL:https://tgps.co.uk/event/parents-evening-7/
END:VEVENT
BEGIN:VEVENT
DTSTART;TZID=Europe/London:20201111T160000
DTEND;TZID=Europe/London:20201111T180000
DTSTAMP:20260423T033541
CREATED:20201023T084334Z
LAST-MODIFIED:20201023T084334Z
UID:31925-1605110400-1605117600@tgps.co.uk
SUMMARY:Parents' Evening
DESCRIPTION:
URL:https://tgps.co.uk/event/parents-evening-10/
END:VEVENT
BEGIN:VEVENT
DTSTART;TZID=Europe/London:20201112T160000
DTEND;TZID=Europe/London:20201112T190000
DTSTAMP:20260423T033541
CREATED:20201023T084336Z
LAST-MODIFIED:20201023T084336Z
UID:31926-1605196800-1605207600@tgps.co.uk
SUMMARY:Parents' Evening
DESCRIPTION:
URL:https://tgps.co.uk/event/parents-evening-11/
END:VEVENT
BEGIN:VEVENT
DTSTART;TZID=Europe/London:20201112T170000
DTEND;TZID=Europe/London:20201112T193000
DTSTAMP:20260423T033541
CREATED:20200810T124324Z
LAST-MODIFIED:20200810T124324Z
UID:30115-1605200400-1605209400@tgps.co.uk
SUMMARY:Parents' Evening
DESCRIPTION:
URL:https://tgps.co.uk/event/parents-evening-8/
END:VEVENT
BEGIN:VEVENT
DTSTART;VALUE=DATE:20201113
DTEND;VALUE=DATE:20201114
DTSTAMP:20260423T033541
CREATED:20201023T084337Z
LAST-MODIFIED:20201023T084337Z
UID:31927-1605225600-1605311999@tgps.co.uk
SUMMARY:Inter-House Recitation
DESCRIPTION:
URL:https://tgps.co.uk/event/inter-house-recitation-3/
END:VEVENT
BEGIN:VEVENT
DTSTART;VALUE=DATE:20201207
DTEND;VALUE=DATE:20201208
DTSTAMP:20260423T033541
CREATED:20200810T124325Z
LAST-MODIFIED:20200810T124325Z
UID:30116-1607299200-1607385599@tgps.co.uk
SUMMARY:School Christmas Dinner
DESCRIPTION:
URL:https://tgps.co.uk/event/school-christmas-dinner-2/
END:VEVENT
BEGIN:VEVENT
DTSTART;TZID=Europe/London:20201208T091500
DTEND;TZID=Europe/London:20201208T101500
DTSTAMP:20260423T033541
CREATED:20200810T124325Z
LAST-MODIFIED:20200810T124325Z
UID:30117-1607418900-1607422500@tgps.co.uk
SUMMARY:Infant Nativity
DESCRIPTION:
URL:https://tgps.co.uk/event/infant-nativity-3/
END:VEVENT
BEGIN:VEVENT
DTSTART;TZID=Europe/London:20201209T091500
DTEND;TZID=Europe/London:20201209T101500
DTSTAMP:20260423T033541
CREATED:20200810T124325Z
LAST-MODIFIED:20200810T124325Z
UID:30118-1607505300-1607508900@tgps.co.uk
SUMMARY:Infant Nativity
DESCRIPTION:
URL:https://tgps.co.uk/event/infant-nativity-4/
END:VEVENT
BEGIN:VEVENT
DTSTART;VALUE=DATE:20201210
DTEND;VALUE=DATE:20201211
DTSTAMP:20260423T033541
CREATED:20201023T084338Z
LAST-MODIFIED:20201023T084338Z
UID:31928-1607558400-1607644799@tgps.co.uk
SUMMARY:Christmas Grotto
DESCRIPTION:
URL:https://tgps.co.uk/event/christmas-grotto/
END:VEVENT
BEGIN:VEVENT
DTSTART;TZID=Europe/London:20201210T120000
DTEND;TZID=Europe/London:20201210T130000
DTSTAMP:20260423T033541
CREATED:20200810T124325Z
LAST-MODIFIED:20200810T124325Z
UID:30119-1607601600-1607605200@tgps.co.uk
SUMMARY:Christmas Infant Disco 12
DESCRIPTION:
URL:https://tgps.co.uk/event/christmas-infant-disco-12/
END:VEVENT
BEGIN:VEVENT
DTSTART;TZID=Europe/London:20201210T140000
DTEND;TZID=Europe/London:20201210T150000
DTSTAMP:20260423T033541
CREATED:20200810T124325Z
LAST-MODIFIED:20200810T124325Z
UID:30120-1607608800-1607612400@tgps.co.uk
SUMMARY:Christmas Junior Disco
DESCRIPTION:
URL:https://tgps.co.uk/event/christmas-junior-disco/
END:VEVENT
BEGIN:VEVENT
DTSTART;VALUE=DATE:20201211
DTEND;VALUE=DATE:20201212
DTSTAMP:20260423T033541
CREATED:20200303T134343Z
LAST-MODIFIED:20200303T134343Z
UID:26173-1607644800-1607731199@tgps.co.uk
SUMMARY:End of Term
DESCRIPTION:
URL:https://tgps.co.uk/event/end-of-term-3/
END:VEVENT
BEGIN:VEVENT
DTSTART;TZID=Europe/London:20201211T123000
DTEND;TZID=Europe/London:20201211T133000
DTSTAMP:20260423T033541
CREATED:20200810T124325Z
LAST-MODIFIED:20200810T124325Z
UID:30121-1607689800-1607693400@tgps.co.uk
SUMMARY:School closes
DESCRIPTION:
URL:https://tgps.co.uk/event/school-closes-2/
END:VEVENT
BEGIN:VEVENT
DTSTART;VALUE=DATE:20201214
DTEND;VALUE=DATE:20201219
DTSTAMP:20260423T033541
CREATED:20200810T114304Z
LAST-MODIFIED:20200810T114304Z
UID:30107-1607904000-1608335999@tgps.co.uk
SUMMARY:Holiday Camp
DESCRIPTION:
URL:https://tgps.co.uk/event/holiday-camp-8/
END:VEVENT
BEGIN:VEVENT
DTSTART;VALUE=DATE:20210105
DTEND;VALUE=DATE:20210106
DTSTAMP:20260423T033541
CREATED:20200303T134343Z
LAST-MODIFIED:20200303T134343Z
UID:26174-1609804800-1609891199@tgps.co.uk
SUMMARY:Start of Spring Term
DESCRIPTION:
URL:https://tgps.co.uk/event/start-of-spring-term/
END:VEVENT
BEGIN:VEVENT
DTSTART;VALUE=DATE:20210107
DTEND;VALUE=DATE:20210108
DTSTAMP:20260423T033541
CREATED:20201023T084339Z
LAST-MODIFIED:20201023T084339Z
UID:31929-1609977600-1610063999@tgps.co.uk
SUMMARY:Junior Club Sign Up Day
DESCRIPTION:
URL:https://tgps.co.uk/event/junior-club-sign-up-day/
END:VEVENT
BEGIN:VEVENT
DTSTART;VALUE=DATE:20210121
DTEND;VALUE=DATE:20210122
DTSTAMP:20260423T033541
CREATED:20201023T084341Z
LAST-MODIFIED:20201023T084341Z
UID:31930-1611187200-1611273599@tgps.co.uk
SUMMARY:WW1 Experience Day for Y5 &Y6
DESCRIPTION:
URL:https://tgps.co.uk/event/ww1-experience-day-for-y5-y6/
END:VEVENT
BEGIN:VEVENT
DTSTART;VALUE=DATE:20210121
DTEND;VALUE=DATE:20210122
DTSTAMP:20260423T033541
CREATED:20210113T134354Z
LAST-MODIFIED:20210113T134354Z
UID:33907-1611187200-1611273599@tgps.co.uk
SUMMARY:WW1 Experience Day - Y5/Y6 (Postponed)
DESCRIPTION:
URL:https://tgps.co.uk/event/ww1-experience-day-y5-y6-postponed/
END:VEVENT
BEGIN:VEVENT
DTSTART;VALUE=DATE:20210202
DTEND;VALUE=DATE:20210203
DTSTAMP:20260423T033541
CREATED:20210113T134354Z
LAST-MODIFIED:20210113T134354Z
UID:33908-1612224000-1612310399@tgps.co.uk
SUMMARY:Y3/4 Ancient Egyptians Virtual Reality Session (Postponed)
DESCRIPTION:
URL:https://tgps.co.uk/event/y3-4-ancient-egyptians-virtual-reality-session-postponed/
END:VEVENT
BEGIN:VEVENT
DTSTART;VALUE=DATE:20210212
DTEND;VALUE=DATE:20210213
DTSTAMP:20260423T033541
CREATED:20200810T114304Z
LAST-MODIFIED:20200810T114304Z
UID:30108-1613088000-1613174399@tgps.co.uk
SUMMARY:Break up for Half Term
DESCRIPTION:
URL:https://tgps.co.uk/event/break-up-for-half-term-3/
END:VEVENT
BEGIN:VEVENT
DTSTART;VALUE=DATE:20210215
DTEND;VALUE=DATE:20210220
DTSTAMP:20260423T033541
CREATED:20200303T134343Z
LAST-MODIFIED:20200303T134343Z
UID:26175-1613347200-1613779199@tgps.co.uk
SUMMARY:Half Term Holiday
DESCRIPTION:
URL:https://tgps.co.uk/event/half-term-holiday-8/
END:VEVENT
BEGIN:VEVENT
DTSTART;VALUE=DATE:20210222
DTEND;VALUE=DATE:20210223
DTSTAMP:20260423T033541
CREATED:20201023T084342Z
LAST-MODIFIED:20201023T084342Z
UID:31931-1613952000-1614038399@tgps.co.uk
SUMMARY:Back to School
DESCRIPTION:
URL:https://tgps.co.uk/event/back-to-school-12/
END:VEVENT
BEGIN:VEVENT
DTSTART;VALUE=DATE:20210301
DTEND;VALUE=DATE:20210302
DTSTAMP:20260423T033541
CREATED:20210113T134355Z
LAST-MODIFIED:20210113T134355Z
UID:33909-1614556800-1614643199@tgps.co.uk
SUMMARY:Young Shakespeare Company performMidsummer Nights Dream
DESCRIPTION:
URL:https://tgps.co.uk/event/young-shakespeare-company-performmidsummer-nights-dream/
END:VEVENT
END:VCALENDAR