BEGIN:VCALENDAR
VERSION:2.0
PRODID:-//Grantham Preparatory International School - ECPv6.15.17//NONSGML v1.0//EN
CALSCALE:GREGORIAN
METHOD:PUBLISH
X-ORIGINAL-URL:https://tgps.co.uk
X-WR-CALDESC:Events for Grantham Preparatory International School
REFRESH-INTERVAL;VALUE=DURATION:PT1H
X-Robots-Tag:noindex
X-PUBLISHED-TTL:PT1H
BEGIN:VTIMEZONE
TZID:Europe/London
BEGIN:DAYLIGHT
TZOFFSETFROM:+0000
TZOFFSETTO:+0100
TZNAME:BST
DTSTART:20180325T010000
END:DAYLIGHT
BEGIN:STANDARD
TZOFFSETFROM:+0100
TZOFFSETTO:+0000
TZNAME:GMT
DTSTART:20181028T010000
END:STANDARD
BEGIN:DAYLIGHT
TZOFFSETFROM:+0000
TZOFFSETTO:+0100
TZNAME:BST
DTSTART:20190331T010000
END:DAYLIGHT
BEGIN:STANDARD
TZOFFSETFROM:+0100
TZOFFSETTO:+0000
TZNAME:GMT
DTSTART:20191027T010000
END:STANDARD
BEGIN:DAYLIGHT
TZOFFSETFROM:+0000
TZOFFSETTO:+0100
TZNAME:BST
DTSTART:20200329T010000
END:DAYLIGHT
BEGIN:STANDARD
TZOFFSETFROM:+0100
TZOFFSETTO:+0000
TZNAME:GMT
DTSTART:20201025T010000
END:STANDARD
END:VTIMEZONE
BEGIN:VEVENT
DTSTART;VALUE=DATE:20190322
DTEND;VALUE=DATE:20190323
DTSTAMP:20260422T020935
CREATED:20190319T134318Z
LAST-MODIFIED:20190319T134318Z
UID:17434-1553212800-1553299199@tgps.co.uk
SUMMARY:Junior Sports Tournament\, Queen Margarets School
DESCRIPTION:
URL:https://tgps.co.uk/event/junior-sports-tournament-queen-margarets-school/
END:VEVENT
BEGIN:VEVENT
DTSTART;VALUE=DATE:20190322
DTEND;VALUE=DATE:20190323
DTSTAMP:20260422T020935
CREATED:20190319T134318Z
LAST-MODIFIED:20190319T134318Z
UID:17435-1553212800-1553299199@tgps.co.uk
SUMMARY:Y3 visit to Doncaster Museum
DESCRIPTION:
URL:https://tgps.co.uk/event/y3-visit-to-doncaster-museum/
END:VEVENT
BEGIN:VEVENT
DTSTART;VALUE=DATE:20190322
DTEND;VALUE=DATE:20190323
DTSTAMP:20260422T020935
CREATED:20190319T134318Z
LAST-MODIFIED:20190319T134318Z
UID:17436-1553212800-1553299199@tgps.co.uk
SUMMARY:EYFS visit to Belton House
DESCRIPTION:
URL:https://tgps.co.uk/event/eyfs-visit-to-belton-house/
END:VEVENT
BEGIN:VEVENT
DTSTART;VALUE=DATE:20190326
DTEND;VALUE=DATE:20190327
DTSTAMP:20260422T020935
CREATED:20190319T134318Z
LAST-MODIFIED:20190319T134318Z
UID:17437-1553558400-1553644799@tgps.co.uk
SUMMARY:Pre-School to Brick Kiln Place
DESCRIPTION:
URL:https://tgps.co.uk/event/pre-school-to-brick-kiln-place/
END:VEVENT
BEGIN:VEVENT
DTSTART;VALUE=DATE:20190327
DTEND;VALUE=DATE:20190328
DTSTAMP:20260422T020935
CREATED:20190319T134319Z
LAST-MODIFIED:20190319T134319Z
UID:17438-1553644800-1553731199@tgps.co.uk
SUMMARY:U11/U10/U9 Netball v Brooke Priory (h)
DESCRIPTION:
URL:https://tgps.co.uk/event/u11-u10-u9-netball-v-brooke-priory-h/
END:VEVENT
BEGIN:VEVENT
DTSTART;VALUE=DATE:20190327
DTEND;VALUE=DATE:20190328
DTSTAMP:20260422T020935
CREATED:20190319T134319Z
LAST-MODIFIED:20190319T134319Z
UID:17439-1553644800-1553731199@tgps.co.uk
SUMMARY:Y11 Football v Brooke Priory (a)
DESCRIPTION:
URL:https://tgps.co.uk/event/y11-football-v-brooke-priory-a/
END:VEVENT
BEGIN:VEVENT
DTSTART;VALUE=DATE:20190328
DTEND;VALUE=DATE:20190329
DTSTAMP:20260422T020935
CREATED:20190319T134319Z
LAST-MODIFIED:20190319T134319Z
UID:17440-1553731200-1553817599@tgps.co.uk
SUMMARY:G&D Quick Stix Hockey Tournament\, Priory Ruskin
DESCRIPTION:
URL:https://tgps.co.uk/event/gd-quick-stix-hockey-tournament-priory-ruskin/
END:VEVENT
BEGIN:VEVENT
DTSTART;VALUE=DATE:20190329
DTEND;VALUE=DATE:20190330
DTSTAMP:20260422T020935
CREATED:20190319T134319Z
LAST-MODIFIED:20190319T134319Z
UID:17441-1553817600-1553903999@tgps.co.uk
SUMMARY:Italian Exchange students arrive
DESCRIPTION:
URL:https://tgps.co.uk/event/italian-exchange-students-arrive/
END:VEVENT
BEGIN:VEVENT
DTSTART;VALUE=DATE:20190329
DTEND;VALUE=DATE:20190330
DTSTAMP:20260422T020935
CREATED:20190319T134319Z
LAST-MODIFIED:20190319T134319Z
UID:17442-1553817600-1553903999@tgps.co.uk
SUMMARY:Swimming Gala\, Louth
DESCRIPTION:
URL:https://tgps.co.uk/event/swimming-gala-louth/
END:VEVENT
BEGIN:VEVENT
DTSTART;VALUE=DATE:20190330
DTEND;VALUE=DATE:20190331
DTSTAMP:20260422T020935
CREATED:20190319T134319Z
LAST-MODIFIED:20190319T134319Z
UID:17443-1553904000-1553990399@tgps.co.uk
SUMMARY:School Band playing at Belton Horse Trials
DESCRIPTION:
URL:https://tgps.co.uk/event/school-band-playing-at-belton-horse-trials/
END:VEVENT
BEGIN:VEVENT
DTSTART;VALUE=DATE:20190404
DTEND;VALUE=DATE:20190405
DTSTAMP:20260422T020935
CREATED:20190319T134320Z
LAST-MODIFIED:20190319T134320Z
UID:17444-1554336000-1554422399@tgps.co.uk
SUMMARY:TGPS Egg Drop
DESCRIPTION:
URL:https://tgps.co.uk/event/tgps-egg-drop/
END:VEVENT
BEGIN:VEVENT
DTSTART;TZID=Europe/London:20190405T123000
DTEND;TZID=Europe/London:20190405T133000
DTSTAMP:20260422T020935
CREATED:20180822T134341Z
LAST-MODIFIED:20180822T134341Z
UID:12179-1554467400-1554471000@tgps.co.uk
SUMMARY:School finishes
DESCRIPTION:
URL:https://tgps.co.uk/event/school-finishes-2/
END:VEVENT
BEGIN:VEVENT
DTSTART;VALUE=DATE:20190406
DTEND;VALUE=DATE:20190423
DTSTAMP:20260422T020935
CREATED:20180822T134341Z
LAST-MODIFIED:20180822T134341Z
UID:12180-1554508800-1555977599@tgps.co.uk
SUMMARY:Easter Holidays
DESCRIPTION:
URL:https://tgps.co.uk/event/easter-holidays/
END:VEVENT
BEGIN:VEVENT
DTSTART;VALUE=DATE:20190408
DTEND;VALUE=DATE:20190409
DTSTAMP:20260422T020935
CREATED:20190319T134320Z
LAST-MODIFIED:20190319T134320Z
UID:17445-1554681600-1554767999@tgps.co.uk
SUMMARY:Holiday Camp
DESCRIPTION:
URL:https://tgps.co.uk/event/holiday-camp/
END:VEVENT
BEGIN:VEVENT
DTSTART;VALUE=DATE:20190409
DTEND;VALUE=DATE:20190410
DTSTAMP:20260422T020935
CREATED:20190319T134320Z
LAST-MODIFIED:20190319T134320Z
UID:17446-1554768000-1554854399@tgps.co.uk
SUMMARY:Holiday Camp
DESCRIPTION:
URL:https://tgps.co.uk/event/holiday-camp-2/
END:VEVENT
BEGIN:VEVENT
DTSTART;VALUE=DATE:20190410
DTEND;VALUE=DATE:20190411
DTSTAMP:20260422T020935
CREATED:20190319T134320Z
LAST-MODIFIED:20190319T134320Z
UID:17447-1554854400-1554940799@tgps.co.uk
SUMMARY:Holiday Camp
DESCRIPTION:
URL:https://tgps.co.uk/event/holiday-camp-3/
END:VEVENT
BEGIN:VEVENT
DTSTART;VALUE=DATE:20190411
DTEND;VALUE=DATE:20190412
DTSTAMP:20260422T020935
CREATED:20190319T134320Z
LAST-MODIFIED:20190319T134320Z
UID:17448-1554940800-1555027199@tgps.co.uk
SUMMARY:Holiday Camp
DESCRIPTION:
URL:https://tgps.co.uk/event/holiday-camp-4/
END:VEVENT
BEGIN:VEVENT
DTSTART;VALUE=DATE:20190412
DTEND;VALUE=DATE:20190413
DTSTAMP:20260422T020935
CREATED:20190319T134320Z
LAST-MODIFIED:20190319T134320Z
UID:17449-1555027200-1555113599@tgps.co.uk
SUMMARY:Holiday Camp
DESCRIPTION:
URL:https://tgps.co.uk/event/holiday-camp-5/
END:VEVENT
BEGIN:VEVENT
DTSTART;VALUE=DATE:20190423
DTEND;VALUE=DATE:20190424
DTSTAMP:20260422T020935
CREATED:20180822T134341Z
LAST-MODIFIED:20180822T134341Z
UID:12181-1555977600-1556063999@tgps.co.uk
SUMMARY:Back to School
DESCRIPTION:
URL:https://tgps.co.uk/event/back-to-school-6/
END:VEVENT
BEGIN:VEVENT
DTSTART;TZID=Europe/London:20190426T090000
DTEND;TZID=Europe/London:20190426T120000
DTSTAMP:20260422T020935
CREATED:20190319T134321Z
LAST-MODIFIED:20190319T134321Z
UID:17450-1556269200-1556280000@tgps.co.uk
SUMMARY:Open Morning
DESCRIPTION:
URL:https://tgps.co.uk/event/open-morning/
END:VEVENT
BEGIN:VEVENT
DTSTART;VALUE=DATE:20190429
DTEND;VALUE=DATE:20190430
DTSTAMP:20260422T020935
CREATED:20190319T134321Z
LAST-MODIFIED:20190319T134321Z
UID:17451-1556496000-1556582399@tgps.co.uk
SUMMARY:TGPS Swimming Gala
DESCRIPTION:
URL:https://tgps.co.uk/event/tgps-swimming-gala/
END:VEVENT
BEGIN:VEVENT
DTSTART;VALUE=DATE:20190430
DTEND;VALUE=DATE:20190501
DTSTAMP:20260422T020935
CREATED:20190319T134321Z
LAST-MODIFIED:20190319T134321Z
UID:17452-1556582400-1556668799@tgps.co.uk
SUMMARY:The Little Genius Quiz
DESCRIPTION:
URL:https://tgps.co.uk/event/the-little-genius-quiz/
END:VEVENT
BEGIN:VEVENT
DTSTART;VALUE=DATE:20190501
DTEND;VALUE=DATE:20190502
DTSTAMP:20260422T020935
CREATED:20190319T134321Z
LAST-MODIFIED:20190319T134321Z
UID:17453-1556668800-1556755199@tgps.co.uk
SUMMARY:Talk and visit from NSPCC
DESCRIPTION:
URL:https://tgps.co.uk/event/talk-and-visit-from-nspcc/
END:VEVENT
BEGIN:VEVENT
DTSTART;VALUE=DATE:20190502
DTEND;VALUE=DATE:20190503
DTSTAMP:20260422T020935
CREATED:20190319T134321Z
LAST-MODIFIED:20190319T134321Z
UID:17454-1556755200-1556841599@tgps.co.uk
SUMMARY:Exchange visit to Udine\, Italy
DESCRIPTION:
URL:https://tgps.co.uk/event/exchange-visit-to-udine-italy/
END:VEVENT
BEGIN:VEVENT
DTSTART;VALUE=DATE:20190506
DTEND;VALUE=DATE:20190507
DTSTAMP:20260422T020935
CREATED:20190319T134322Z
LAST-MODIFIED:20190319T134322Z
UID:17455-1557100800-1557187199@tgps.co.uk
SUMMARY:Students back from Udine\, Italy
DESCRIPTION:
URL:https://tgps.co.uk/event/students-back-from-udine-italy/
END:VEVENT
BEGIN:VEVENT
DTSTART;VALUE=DATE:20190508
DTEND;VALUE=DATE:20190509
DTSTAMP:20260422T020935
CREATED:20190319T134322Z
LAST-MODIFIED:20190319T134322Z
UID:17456-1557273600-1557359999@tgps.co.uk
SUMMARY:NSPCC Activity Day
DESCRIPTION:
URL:https://tgps.co.uk/event/nspcc-activity-day/
END:VEVENT
BEGIN:VEVENT
DTSTART;VALUE=DATE:20190509
DTEND;VALUE=DATE:20190510
DTSTAMP:20260422T020935
CREATED:20180822T134341Z
LAST-MODIFIED:20180822T134341Z
UID:12182-1557360000-1557446399@tgps.co.uk
SUMMARY:Class & Group Photographs - Kittle
DESCRIPTION:
URL:https://tgps.co.uk/event/class-group-photographs-kittle/
END:VEVENT
BEGIN:VEVENT
DTSTART;VALUE=DATE:20190510
DTEND;VALUE=DATE:20190511
DTSTAMP:20260422T020935
CREATED:20190319T134322Z
LAST-MODIFIED:20190319T134322Z
UID:17457-1557446400-1557532799@tgps.co.uk
SUMMARY:Y2 visit to Bee Observatory
DESCRIPTION:
URL:https://tgps.co.uk/event/y2-visit-to-bee-observatory/
END:VEVENT
BEGIN:VEVENT
DTSTART;VALUE=DATE:20190511
DTEND;VALUE=DATE:20190512
DTSTAMP:20260422T020935
CREATED:20190319T134322Z
LAST-MODIFIED:20190319T134322Z
UID:17458-1557532800-1557619199@tgps.co.uk
SUMMARY:U11 Netball finals\, Queen Ethelburga's
DESCRIPTION:
URL:https://tgps.co.uk/event/u11-netball-finals-queen-ethelburgas/
END:VEVENT
BEGIN:VEVENT
DTSTART;VALUE=DATE:20190513
DTEND;VALUE=DATE:20190518
DTSTAMP:20260422T020935
CREATED:20190319T134322Z
LAST-MODIFIED:20190319T134322Z
UID:17459-1557705600-1558137599@tgps.co.uk
SUMMARY:Exam week
DESCRIPTION:
URL:https://tgps.co.uk/event/exam-week/
END:VEVENT
END:VCALENDAR