BEGIN:VCALENDAR
VERSION:2.0
PRODID:-//Grantham Preparatory International School - ECPv6.15.17//NONSGML v1.0//EN
CALSCALE:GREGORIAN
METHOD:PUBLISH
X-ORIGINAL-URL:https://tgps.co.uk
X-WR-CALDESC:Events for Grantham Preparatory International School
REFRESH-INTERVAL;VALUE=DURATION:PT1H
X-Robots-Tag:noindex
X-PUBLISHED-TTL:PT1H
BEGIN:VTIMEZONE
TZID:Europe/London
BEGIN:DAYLIGHT
TZOFFSETFROM:+0000
TZOFFSETTO:+0100
TZNAME:BST
DTSTART:20200329T010000
END:DAYLIGHT
BEGIN:STANDARD
TZOFFSETFROM:+0100
TZOFFSETTO:+0000
TZNAME:GMT
DTSTART:20201025T010000
END:STANDARD
BEGIN:DAYLIGHT
TZOFFSETFROM:+0000
TZOFFSETTO:+0100
TZNAME:BST
DTSTART:20210328T010000
END:DAYLIGHT
BEGIN:STANDARD
TZOFFSETFROM:+0100
TZOFFSETTO:+0000
TZNAME:GMT
DTSTART:20211031T010000
END:STANDARD
BEGIN:DAYLIGHT
TZOFFSETFROM:+0000
TZOFFSETTO:+0100
TZNAME:BST
DTSTART:20220327T010000
END:DAYLIGHT
BEGIN:STANDARD
TZOFFSETFROM:+0100
TZOFFSETTO:+0000
TZNAME:GMT
DTSTART:20221030T010000
END:STANDARD
END:VTIMEZONE
BEGIN:VEVENT
DTSTART;VALUE=DATE:20210212
DTEND;VALUE=DATE:20210213
DTSTAMP:20260423T115540
CREATED:20200810T114304Z
LAST-MODIFIED:20200810T114304Z
UID:30108-1613088000-1613174399@tgps.co.uk
SUMMARY:Break up for Half Term
DESCRIPTION:
URL:https://tgps.co.uk/event/break-up-for-half-term-3/
END:VEVENT
BEGIN:VEVENT
DTSTART;VALUE=DATE:20210215
DTEND;VALUE=DATE:20210220
DTSTAMP:20260423T115540
CREATED:20200303T134343Z
LAST-MODIFIED:20200303T134343Z
UID:26175-1613347200-1613779199@tgps.co.uk
SUMMARY:Half Term Holiday
DESCRIPTION:
URL:https://tgps.co.uk/event/half-term-holiday-8/
END:VEVENT
BEGIN:VEVENT
DTSTART;VALUE=DATE:20210222
DTEND;VALUE=DATE:20210223
DTSTAMP:20260423T115540
CREATED:20201023T084342Z
LAST-MODIFIED:20201023T084342Z
UID:31931-1613952000-1614038399@tgps.co.uk
SUMMARY:Back to School
DESCRIPTION:
URL:https://tgps.co.uk/event/back-to-school-12/
END:VEVENT
BEGIN:VEVENT
DTSTART;VALUE=DATE:20210301
DTEND;VALUE=DATE:20210302
DTSTAMP:20260423T115540
CREATED:20210113T134355Z
LAST-MODIFIED:20210113T134355Z
UID:33909-1614556800-1614643199@tgps.co.uk
SUMMARY:Young Shakespeare Company performMidsummer Nights Dream
DESCRIPTION:
URL:https://tgps.co.uk/event/young-shakespeare-company-performmidsummer-nights-dream/
END:VEVENT
BEGIN:VEVENT
DTSTART;VALUE=DATE:20210304
DTEND;VALUE=DATE:20210305
DTSTAMP:20260423T115540
CREATED:20210113T134355Z
LAST-MODIFIED:20210113T134355Z
UID:33910-1614816000-1614902399@tgps.co.uk
SUMMARY:World Book Day
DESCRIPTION:
URL:https://tgps.co.uk/event/world-book-day-2/
END:VEVENT
BEGIN:VEVENT
DTSTART;VALUE=DATE:20210309
DTEND;VALUE=DATE:20210310
DTSTAMP:20260423T115540
CREATED:20201023T084343Z
LAST-MODIFIED:20201023T084343Z
UID:31932-1615248000-1615334399@tgps.co.uk
SUMMARY:Parents' Evening
DESCRIPTION:
URL:https://tgps.co.uk/event/parents-evening-12/
END:VEVENT
BEGIN:VEVENT
DTSTART;VALUE=DATE:20210311
DTEND;VALUE=DATE:20210312
DTSTAMP:20260423T115540
CREATED:20201023T084344Z
LAST-MODIFIED:20201023T084344Z
UID:31933-1615420800-1615507199@tgps.co.uk
SUMMARY:Parents' Evening
DESCRIPTION:
URL:https://tgps.co.uk/event/parents-evening-13/
END:VEVENT
BEGIN:VEVENT
DTSTART;VALUE=DATE:20210323
DTEND;VALUE=DATE:20210324
DTSTAMP:20260423T115540
CREATED:20210309T174254Z
LAST-MODIFIED:20210309T174254Z
UID:35265-1616457600-1616543999@tgps.co.uk
SUMMARY:Parents' Evening
DESCRIPTION:
URL:https://tgps.co.uk/event/parents-evening-14/
END:VEVENT
BEGIN:VEVENT
DTSTART;VALUE=DATE:20210324
DTEND;VALUE=DATE:20210325
DTSTAMP:20260423T115540
CREATED:20210309T174254Z
LAST-MODIFIED:20210309T174254Z
UID:35266-1616544000-1616630399@tgps.co.uk
SUMMARY:Parents' Evening
DESCRIPTION:
URL:https://tgps.co.uk/event/parents-evening-15/
END:VEVENT
BEGIN:VEVENT
DTSTART;VALUE=DATE:20210325
DTEND;VALUE=DATE:20210326
DTSTAMP:20260423T115540
CREATED:20210309T174254Z
LAST-MODIFIED:20210309T174254Z
UID:35267-1616630400-1616716799@tgps.co.uk
SUMMARY:Parents' Evening
DESCRIPTION:
URL:https://tgps.co.uk/event/parents-evening-16/
END:VEVENT
BEGIN:VEVENT
DTSTART;VALUE=DATE:20210401
DTEND;VALUE=DATE:20210402
DTSTAMP:20260423T115540
CREATED:20200810T114305Z
LAST-MODIFIED:20200810T114305Z
UID:30109-1617235200-1617321599@tgps.co.uk
SUMMARY:Break up for Easter Holidays
DESCRIPTION:
URL:https://tgps.co.uk/event/break-up-for-easter-holidays/
END:VEVENT
BEGIN:VEVENT
DTSTART;VALUE=DATE:20210406
DTEND;VALUE=DATE:20210417
DTSTAMP:20260423T115540
CREATED:20200810T114306Z
LAST-MODIFIED:20200810T114306Z
UID:30110-1617667200-1618617599@tgps.co.uk
SUMMARY:Easter Holidays
DESCRIPTION:
URL:https://tgps.co.uk/event/easter-holidays-2/
END:VEVENT
BEGIN:VEVENT
DTSTART;VALUE=DATE:20210412
DTEND;VALUE=DATE:20210413
DTSTAMP:20260423T115540
CREATED:20210309T174254Z
LAST-MODIFIED:20210309T174254Z
UID:35268-1618185600-1618271999@tgps.co.uk
SUMMARY:Easter Holiday Camp
DESCRIPTION:
URL:https://tgps.co.uk/event/easter-holiday-camp/
END:VEVENT
BEGIN:VEVENT
DTSTART;VALUE=DATE:20210413
DTEND;VALUE=DATE:20210414
DTSTAMP:20260423T115540
CREATED:20210309T174254Z
LAST-MODIFIED:20210309T174254Z
UID:35269-1618272000-1618358399@tgps.co.uk
SUMMARY:Easter Holiday Camp
DESCRIPTION:
URL:https://tgps.co.uk/event/easter-holiday-camp-2/
END:VEVENT
BEGIN:VEVENT
DTSTART;VALUE=DATE:20210414
DTEND;VALUE=DATE:20210415
DTSTAMP:20260423T115540
CREATED:20210309T174254Z
LAST-MODIFIED:20210309T174254Z
UID:35270-1618358400-1618444799@tgps.co.uk
SUMMARY:Easter Holiday Camp
DESCRIPTION:
URL:https://tgps.co.uk/event/easter-holiday-camp-3/
END:VEVENT
BEGIN:VEVENT
DTSTART;VALUE=DATE:20210415
DTEND;VALUE=DATE:20210416
DTSTAMP:20260423T115540
CREATED:20210309T174254Z
LAST-MODIFIED:20210309T174254Z
UID:35271-1618444800-1618531199@tgps.co.uk
SUMMARY:Easter Holiday Camp
DESCRIPTION:
URL:https://tgps.co.uk/event/easter-holiday-camp-4/
END:VEVENT
BEGIN:VEVENT
DTSTART;VALUE=DATE:20210416
DTEND;VALUE=DATE:20210417
DTSTAMP:20260423T115540
CREATED:20210309T174255Z
LAST-MODIFIED:20210309T174255Z
UID:35272-1618531200-1618617599@tgps.co.uk
SUMMARY:Easter Holiday Camp
DESCRIPTION:
URL:https://tgps.co.uk/event/easter-holiday-camp-5/
END:VEVENT
BEGIN:VEVENT
DTSTART;VALUE=DATE:20210419
DTEND;VALUE=DATE:20210420
DTSTAMP:20260423T115540
CREATED:20200810T114307Z
LAST-MODIFIED:20200810T114307Z
UID:30111-1618790400-1618876799@tgps.co.uk
SUMMARY:Back to School
DESCRIPTION:
URL:https://tgps.co.uk/event/back-to-school-11/
END:VEVENT
BEGIN:VEVENT
DTSTART;VALUE=DATE:20210429
DTEND;VALUE=DATE:20210430
DTSTAMP:20260423T115540
CREATED:20210309T174255Z
LAST-MODIFIED:20210309T174255Z
UID:35273-1619654400-1619740799@tgps.co.uk
SUMMARY:Virtual Dinosaur Visit - Infants
DESCRIPTION:
URL:https://tgps.co.uk/event/virtual-dinosaur-visit-infants/
END:VEVENT
BEGIN:VEVENT
DTSTART;VALUE=DATE:20210510
DTEND;VALUE=DATE:20210511
DTSTAMP:20260423T115540
CREATED:20201023T084345Z
LAST-MODIFIED:20201023T084345Z
UID:31934-1620604800-1620691199@tgps.co.uk
SUMMARY:Exam Week
DESCRIPTION:
URL:https://tgps.co.uk/event/exam-week-2/
END:VEVENT
BEGIN:VEVENT
DTSTART;VALUE=DATE:20210511
DTEND;VALUE=DATE:20210512
DTSTAMP:20260423T115540
CREATED:20201023T084347Z
LAST-MODIFIED:20201023T084347Z
UID:31935-1620691200-1620777599@tgps.co.uk
SUMMARY:Exam Week
DESCRIPTION:
URL:https://tgps.co.uk/event/exam-week-3/
END:VEVENT
BEGIN:VEVENT
DTSTART;VALUE=DATE:20210512
DTEND;VALUE=DATE:20210513
DTSTAMP:20260423T115540
CREATED:20201023T084348Z
LAST-MODIFIED:20201023T084348Z
UID:31936-1620777600-1620863999@tgps.co.uk
SUMMARY:Exam Week
DESCRIPTION:
URL:https://tgps.co.uk/event/exam-week-4/
END:VEVENT
BEGIN:VEVENT
DTSTART;VALUE=DATE:20210513
DTEND;VALUE=DATE:20210514
DTSTAMP:20260423T115540
CREATED:20201023T084349Z
LAST-MODIFIED:20201023T084349Z
UID:31937-1620864000-1620950399@tgps.co.uk
SUMMARY:Exam Week
DESCRIPTION:
URL:https://tgps.co.uk/event/exam-week-5/
END:VEVENT
BEGIN:VEVENT
DTSTART;VALUE=DATE:20210514
DTEND;VALUE=DATE:20210515
DTSTAMP:20260423T115540
CREATED:20201023T084350Z
LAST-MODIFIED:20201023T084350Z
UID:31938-1620950400-1621036799@tgps.co.uk
SUMMARY:Exam Week
DESCRIPTION:
URL:https://tgps.co.uk/event/exam-week-6/
END:VEVENT
BEGIN:VEVENT
DTSTART;VALUE=DATE:20210528
DTEND;VALUE=DATE:20210529
DTSTAMP:20260423T115540
CREATED:20201023T084351Z
LAST-MODIFIED:20201023T084351Z
UID:31939-1622160000-1622246399@tgps.co.uk
SUMMARY:Break up for Half Term
DESCRIPTION:
URL:https://tgps.co.uk/event/break-up-for-half-term-4/
END:VEVENT
BEGIN:VEVENT
DTSTART;VALUE=DATE:20210601
DTEND;VALUE=DATE:20210602
DTSTAMP:20260423T115540
CREATED:20201023T084351Z
LAST-MODIFIED:20201023T084351Z
UID:31940-1622505600-1622591999@tgps.co.uk
SUMMARY:Half Term
DESCRIPTION:
URL:https://tgps.co.uk/event/half-term/
END:VEVENT
BEGIN:VEVENT
DTSTART;VALUE=DATE:20210602
DTEND;VALUE=DATE:20210603
DTSTAMP:20260423T115540
CREATED:20201023T084352Z
LAST-MODIFIED:20201023T084352Z
UID:31941-1622592000-1622678399@tgps.co.uk
SUMMARY:Half Term
DESCRIPTION:
URL:https://tgps.co.uk/event/half-term-2/
END:VEVENT
BEGIN:VEVENT
DTSTART;VALUE=DATE:20210603
DTEND;VALUE=DATE:20210604
DTSTAMP:20260423T115540
CREATED:20201023T084353Z
LAST-MODIFIED:20201023T084353Z
UID:31942-1622678400-1622764799@tgps.co.uk
SUMMARY:Half Term
DESCRIPTION:
URL:https://tgps.co.uk/event/half-term-3/
END:VEVENT
BEGIN:VEVENT
DTSTART;VALUE=DATE:20210604
DTEND;VALUE=DATE:20210605
DTSTAMP:20260423T115540
CREATED:20201023T084353Z
LAST-MODIFIED:20201023T084353Z
UID:31943-1622764800-1622851199@tgps.co.uk
SUMMARY:Half Term
DESCRIPTION:
URL:https://tgps.co.uk/event/half-term-4/
END:VEVENT
BEGIN:VEVENT
DTSTART;VALUE=DATE:20210607
DTEND;VALUE=DATE:20210608
DTSTAMP:20260423T115540
CREATED:20201023T084354Z
LAST-MODIFIED:20201023T084354Z
UID:31944-1623024000-1623110399@tgps.co.uk
SUMMARY:Back to School
DESCRIPTION:
URL:https://tgps.co.uk/event/back-to-school-13/
END:VEVENT
END:VCALENDAR