BEGIN:VCALENDAR
VERSION:2.0
PRODID:-//Grantham Preparatory International School - ECPv6.15.17//NONSGML v1.0//EN
CALSCALE:GREGORIAN
METHOD:PUBLISH
X-WR-CALNAME:Grantham Preparatory International School
X-ORIGINAL-URL:https://tgps.co.uk
X-WR-CALDESC:Events for Grantham Preparatory International School
REFRESH-INTERVAL;VALUE=DURATION:PT1H
X-Robots-Tag:noindex
X-PUBLISHED-TTL:PT1H
BEGIN:VTIMEZONE
TZID:Europe/London
BEGIN:DAYLIGHT
TZOFFSETFROM:+0000
TZOFFSETTO:+0100
TZNAME:BST
DTSTART:20180325T010000
END:DAYLIGHT
BEGIN:STANDARD
TZOFFSETFROM:+0100
TZOFFSETTO:+0000
TZNAME:GMT
DTSTART:20181028T010000
END:STANDARD
BEGIN:DAYLIGHT
TZOFFSETFROM:+0000
TZOFFSETTO:+0100
TZNAME:BST
DTSTART:20190331T010000
END:DAYLIGHT
BEGIN:STANDARD
TZOFFSETFROM:+0100
TZOFFSETTO:+0000
TZNAME:GMT
DTSTART:20191027T010000
END:STANDARD
BEGIN:DAYLIGHT
TZOFFSETFROM:+0000
TZOFFSETTO:+0100
TZNAME:BST
DTSTART:20200329T010000
END:DAYLIGHT
BEGIN:STANDARD
TZOFFSETFROM:+0100
TZOFFSETTO:+0000
TZNAME:GMT
DTSTART:20201025T010000
END:STANDARD
END:VTIMEZONE
BEGIN:VEVENT
DTSTART;VALUE=DATE:20190430
DTEND;VALUE=DATE:20190501
DTSTAMP:20260422T020620
CREATED:20190319T134321Z
LAST-MODIFIED:20190319T134321Z
UID:17452-1556582400-1556668799@tgps.co.uk
SUMMARY:The Little Genius Quiz
DESCRIPTION:
URL:https://tgps.co.uk/event/the-little-genius-quiz/
END:VEVENT
BEGIN:VEVENT
DTSTART;VALUE=DATE:20190501
DTEND;VALUE=DATE:20190502
DTSTAMP:20260422T020620
CREATED:20190319T134321Z
LAST-MODIFIED:20190319T134321Z
UID:17453-1556668800-1556755199@tgps.co.uk
SUMMARY:Talk and visit from NSPCC
DESCRIPTION:
URL:https://tgps.co.uk/event/talk-and-visit-from-nspcc/
END:VEVENT
BEGIN:VEVENT
DTSTART;VALUE=DATE:20190502
DTEND;VALUE=DATE:20190503
DTSTAMP:20260422T020620
CREATED:20190319T134321Z
LAST-MODIFIED:20190319T134321Z
UID:17454-1556755200-1556841599@tgps.co.uk
SUMMARY:Exchange visit to Udine\, Italy
DESCRIPTION:
URL:https://tgps.co.uk/event/exchange-visit-to-udine-italy/
END:VEVENT
BEGIN:VEVENT
DTSTART;VALUE=DATE:20190506
DTEND;VALUE=DATE:20190507
DTSTAMP:20260422T020620
CREATED:20190319T134322Z
LAST-MODIFIED:20190319T134322Z
UID:17455-1557100800-1557187199@tgps.co.uk
SUMMARY:Students back from Udine\, Italy
DESCRIPTION:
URL:https://tgps.co.uk/event/students-back-from-udine-italy/
END:VEVENT
BEGIN:VEVENT
DTSTART;VALUE=DATE:20190508
DTEND;VALUE=DATE:20190509
DTSTAMP:20260422T020620
CREATED:20190319T134322Z
LAST-MODIFIED:20190319T134322Z
UID:17456-1557273600-1557359999@tgps.co.uk
SUMMARY:NSPCC Activity Day
DESCRIPTION:
URL:https://tgps.co.uk/event/nspcc-activity-day/
END:VEVENT
BEGIN:VEVENT
DTSTART;VALUE=DATE:20190509
DTEND;VALUE=DATE:20190510
DTSTAMP:20260422T020620
CREATED:20180822T134341Z
LAST-MODIFIED:20180822T134341Z
UID:12182-1557360000-1557446399@tgps.co.uk
SUMMARY:Class & Group Photographs - Kittle
DESCRIPTION:
URL:https://tgps.co.uk/event/class-group-photographs-kittle/
END:VEVENT
BEGIN:VEVENT
DTSTART;VALUE=DATE:20190510
DTEND;VALUE=DATE:20190511
DTSTAMP:20260422T020620
CREATED:20190319T134322Z
LAST-MODIFIED:20190319T134322Z
UID:17457-1557446400-1557532799@tgps.co.uk
SUMMARY:Y2 visit to Bee Observatory
DESCRIPTION:
URL:https://tgps.co.uk/event/y2-visit-to-bee-observatory/
END:VEVENT
BEGIN:VEVENT
DTSTART;VALUE=DATE:20190511
DTEND;VALUE=DATE:20190512
DTSTAMP:20260422T020620
CREATED:20190319T134322Z
LAST-MODIFIED:20190319T134322Z
UID:17458-1557532800-1557619199@tgps.co.uk
SUMMARY:U11 Netball finals\, Queen Ethelburga's
DESCRIPTION:
URL:https://tgps.co.uk/event/u11-netball-finals-queen-ethelburgas/
END:VEVENT
BEGIN:VEVENT
DTSTART;VALUE=DATE:20190513
DTEND;VALUE=DATE:20190518
DTSTAMP:20260422T020620
CREATED:20190319T134322Z
LAST-MODIFIED:20190319T134322Z
UID:17459-1557705600-1558137599@tgps.co.uk
SUMMARY:Exam week
DESCRIPTION:
URL:https://tgps.co.uk/event/exam-week/
END:VEVENT
BEGIN:VEVENT
DTSTART;VALUE=DATE:20190516
DTEND;VALUE=DATE:20190517
DTSTAMP:20260422T020620
CREATED:20190319T134323Z
LAST-MODIFIED:20190319T134323Z
UID:17460-1557964800-1558051199@tgps.co.uk
SUMMARY:Year 3 & 4 Cricket Festival
DESCRIPTION:
URL:https://tgps.co.uk/event/year-3-4-cricket-festival/
END:VEVENT
BEGIN:VEVENT
DTSTART;VALUE=DATE:20190524
DTEND;VALUE=DATE:20190525
DTSTAMP:20260422T020620
CREATED:20180822T134341Z
LAST-MODIFIED:20180822T134341Z
UID:12183-1558656000-1558742399@tgps.co.uk
SUMMARY:School breaks up for Half term
DESCRIPTION:
URL:https://tgps.co.uk/event/school-breaks-up-for-half-term-2/
END:VEVENT
BEGIN:VEVENT
DTSTART;VALUE=DATE:20190525
DTEND;VALUE=DATE:20190602
DTSTAMP:20260422T020620
CREATED:20180822T134342Z
LAST-MODIFIED:20180822T134342Z
UID:12184-1558742400-1559433599@tgps.co.uk
SUMMARY:Half Term Holiday
DESCRIPTION:
URL:https://tgps.co.uk/event/half-term-holiday-2/
END:VEVENT
BEGIN:VEVENT
DTSTART;VALUE=DATE:20190602
DTEND;VALUE=DATE:20190603
DTSTAMP:20260422T020620
CREATED:20180822T134342Z
LAST-MODIFIED:20180822T134342Z
UID:12185-1559433600-1559519999@tgps.co.uk
SUMMARY:Half Term Holiday
DESCRIPTION:
URL:https://tgps.co.uk/event/half-term-holiday-3/
END:VEVENT
BEGIN:VEVENT
DTSTART;VALUE=DATE:20190603
DTEND;VALUE=DATE:20190604
DTSTAMP:20260422T020620
CREATED:20180822T134342Z
LAST-MODIFIED:20180822T134342Z
UID:12186-1559520000-1559606399@tgps.co.uk
SUMMARY:Back to School
DESCRIPTION:
URL:https://tgps.co.uk/event/back-to-school-7/
END:VEVENT
BEGIN:VEVENT
DTSTART;VALUE=DATE:20190619
DTEND;VALUE=DATE:20190620
DTSTAMP:20260422T020620
CREATED:20180822T134342Z
LAST-MODIFIED:20180822T134342Z
UID:12187-1560902400-1560988799@tgps.co.uk
SUMMARY:Junior Production\, Guildhall Theatre
DESCRIPTION:
URL:https://tgps.co.uk/event/junior-production-guildhall-theatre/
END:VEVENT
BEGIN:VEVENT
DTSTART;VALUE=DATE:20190620
DTEND;VALUE=DATE:20190621
DTSTAMP:20260422T020620
CREATED:20180822T134342Z
LAST-MODIFIED:20180822T134342Z
UID:12188-1560988800-1561075199@tgps.co.uk
SUMMARY:Junior Production\, Guildhall Theatre
DESCRIPTION:
URL:https://tgps.co.uk/event/junior-production-guildhall-theatre-2/
END:VEVENT
BEGIN:VEVENT
DTSTART;VALUE=DATE:20190624
DTEND;VALUE=DATE:20190625
DTSTAMP:20260422T020620
CREATED:20190319T134323Z
LAST-MODIFIED:20190319T134323Z
UID:17461-1561334400-1561420799@tgps.co.uk
SUMMARY:Bag 2 School Drop Off
DESCRIPTION:
URL:https://tgps.co.uk/event/bag-2-school-drop-off/
END:VEVENT
BEGIN:VEVENT
DTSTART;VALUE=DATE:20190626
DTEND;VALUE=DATE:20190627
DTSTAMP:20260422T020620
CREATED:20180822T134342Z
LAST-MODIFIED:20180822T134342Z
UID:12189-1561507200-1561593599@tgps.co.uk
SUMMARY:Sports Day
DESCRIPTION:
URL:https://tgps.co.uk/event/sports-day-2/
END:VEVENT
BEGIN:VEVENT
DTSTART;VALUE=DATE:20190628
DTEND;VALUE=DATE:20190629
DTSTAMP:20260422T020620
CREATED:20180822T134342Z
LAST-MODIFIED:20180822T134342Z
UID:12190-1561680000-1561766399@tgps.co.uk
SUMMARY:1st Reserve Sports Day
DESCRIPTION:
URL:https://tgps.co.uk/event/1st-reserve-sports-day/
END:VEVENT
BEGIN:VEVENT
DTSTART;VALUE=DATE:20190703
DTEND;VALUE=DATE:20190704
DTSTAMP:20260422T020620
CREATED:20180822T134342Z
LAST-MODIFIED:20180822T134342Z
UID:12191-1562112000-1562198399@tgps.co.uk
SUMMARY:2nd Reserve Sports Day
DESCRIPTION:
URL:https://tgps.co.uk/event/2nd-reserve-sports-day/
END:VEVENT
BEGIN:VEVENT
DTSTART;VALUE=DATE:20190708
DTEND;VALUE=DATE:20190709
DTSTAMP:20260422T020620
CREATED:20180822T134343Z
LAST-MODIFIED:20180822T134343Z
UID:12192-1562544000-1562630399@tgps.co.uk
SUMMARY:Speech Day
DESCRIPTION:
URL:https://tgps.co.uk/event/speech-day-2/
END:VEVENT
BEGIN:VEVENT
DTSTART;VALUE=DATE:20190712
DTEND;VALUE=DATE:20190713
DTSTAMP:20260422T020620
CREATED:20180822T134343Z
LAST-MODIFIED:20180822T134343Z
UID:12193-1562889600-1562975999@tgps.co.uk
SUMMARY:Leavers Assembly
DESCRIPTION:
URL:https://tgps.co.uk/event/leavers-assembly/
END:VEVENT
BEGIN:VEVENT
DTSTART;VALUE=DATE:20190717
DTEND;VALUE=DATE:20190718
DTSTAMP:20260422T020620
CREATED:20180822T134343Z
LAST-MODIFIED:20180822T134343Z
UID:12194-1563321600-1563407999@tgps.co.uk
SUMMARY:School Breaks Up for Summer
DESCRIPTION:
URL:https://tgps.co.uk/event/school-breaks-up-for-summer/
END:VEVENT
BEGIN:VEVENT
DTSTART;VALUE=DATE:20190901
DTEND;VALUE=DATE:20190902
DTSTAMP:20260422T020620
CREATED:20190807T144444Z
LAST-MODIFIED:20190807T144444Z
UID:20913-1567296000-1567382399@tgps.co.uk
SUMMARY:U9/U10 Netball v Ayscoughfee
DESCRIPTION:
URL:https://tgps.co.uk/event/u9-u10-netball-v-ayscoughfee/
END:VEVENT
BEGIN:VEVENT
DTSTART;VALUE=DATE:20190902
DTEND;VALUE=DATE:20190903
DTSTAMP:20260422T020620
CREATED:20190807T134351Z
LAST-MODIFIED:20190807T134351Z
UID:20909-1567382400-1567468799@tgps.co.uk
SUMMARY:Staff Training Day
DESCRIPTION:
URL:https://tgps.co.uk/event/staff-training-day/
END:VEVENT
BEGIN:VEVENT
DTSTART;VALUE=DATE:20190903
DTEND;VALUE=DATE:20190904
DTSTAMP:20260422T020620
CREATED:20190807T134351Z
LAST-MODIFIED:20190807T134351Z
UID:20910-1567468800-1567555199@tgps.co.uk
SUMMARY:Autumn Term - Back to School
DESCRIPTION:
URL:https://tgps.co.uk/event/autumn-term-back-to-school-2/
END:VEVENT
BEGIN:VEVENT
DTSTART;VALUE=DATE:20190913
DTEND;VALUE=DATE:20190914
DTSTAMP:20260422T020620
CREATED:20190807T134351Z
LAST-MODIFIED:20190807T134351Z
UID:20911-1568332800-1568419199@tgps.co.uk
SUMMARY:Coffee Morning - Friends of Grantham Prep
DESCRIPTION:
URL:https://tgps.co.uk/event/coffee-morning-friends-of-grantham-prep/
END:VEVENT
BEGIN:VEVENT
DTSTART;VALUE=DATE:20190914
DTEND;VALUE=DATE:20190915
DTSTAMP:20260422T020620
CREATED:20190807T144444Z
LAST-MODIFIED:20190807T144444Z
UID:20914-1568419200-1568505599@tgps.co.uk
SUMMARY:11+ Verbal Reasoning Exam
DESCRIPTION:
URL:https://tgps.co.uk/event/11-verbal-reasoning-exam/
END:VEVENT
BEGIN:VEVENT
DTSTART;VALUE=DATE:20190918
DTEND;VALUE=DATE:20190919
DTSTAMP:20260422T020620
CREATED:20190807T144444Z
LAST-MODIFIED:20190807T144444Z
UID:20915-1568764800-1568851199@tgps.co.uk
SUMMARY:U9 Tag Rugby v Ayscoughfee Hall
DESCRIPTION:
URL:https://tgps.co.uk/event/u9-tag-rugby-v-ayscoughfee-hall/
END:VEVENT
BEGIN:VEVENT
DTSTART;VALUE=DATE:20190918
DTEND;VALUE=DATE:20190919
DTSTAMP:20260422T020620
CREATED:20190807T144445Z
LAST-MODIFIED:20190807T144445Z
UID:20916-1568764800-1568851199@tgps.co.uk
SUMMARY:U11 Hockey @ Stamford Festival
DESCRIPTION:
URL:https://tgps.co.uk/event/u11-hockey-stamford-festival/
END:VEVENT
END:VCALENDAR