BEGIN:VCALENDAR
VERSION:2.0
PRODID:-//Grantham Preparatory International School - ECPv6.15.17//NONSGML v1.0//EN
CALSCALE:GREGORIAN
METHOD:PUBLISH
X-ORIGINAL-URL:https://tgps.co.uk
X-WR-CALDESC:Events for Grantham Preparatory International School
REFRESH-INTERVAL;VALUE=DURATION:PT1H
X-Robots-Tag:noindex
X-PUBLISHED-TTL:PT1H
BEGIN:VTIMEZONE
TZID:Europe/London
BEGIN:DAYLIGHT
TZOFFSETFROM:+0000
TZOFFSETTO:+0100
TZNAME:BST
DTSTART:20180325T010000
END:DAYLIGHT
BEGIN:STANDARD
TZOFFSETFROM:+0100
TZOFFSETTO:+0000
TZNAME:GMT
DTSTART:20181028T010000
END:STANDARD
BEGIN:DAYLIGHT
TZOFFSETFROM:+0000
TZOFFSETTO:+0100
TZNAME:BST
DTSTART:20190331T010000
END:DAYLIGHT
BEGIN:STANDARD
TZOFFSETFROM:+0100
TZOFFSETTO:+0000
TZNAME:GMT
DTSTART:20191027T010000
END:STANDARD
BEGIN:DAYLIGHT
TZOFFSETFROM:+0000
TZOFFSETTO:+0100
TZNAME:BST
DTSTART:20200329T010000
END:DAYLIGHT
BEGIN:STANDARD
TZOFFSETFROM:+0100
TZOFFSETTO:+0000
TZNAME:GMT
DTSTART:20201025T010000
END:STANDARD
END:VTIMEZONE
BEGIN:VEVENT
DTSTART;VALUE=DATE:20190903
DTEND;VALUE=DATE:20190904
DTSTAMP:20260422T231304
CREATED:20190807T134351Z
LAST-MODIFIED:20190807T134351Z
UID:20910-1567468800-1567555199@tgps.co.uk
SUMMARY:Autumn Term - Back to School
DESCRIPTION:
URL:https://tgps.co.uk/event/autumn-term-back-to-school-2/
END:VEVENT
BEGIN:VEVENT
DTSTART;VALUE=DATE:20190913
DTEND;VALUE=DATE:20190914
DTSTAMP:20260422T231304
CREATED:20190807T134351Z
LAST-MODIFIED:20190807T134351Z
UID:20911-1568332800-1568419199@tgps.co.uk
SUMMARY:Coffee Morning - Friends of Grantham Prep
DESCRIPTION:
URL:https://tgps.co.uk/event/coffee-morning-friends-of-grantham-prep/
END:VEVENT
BEGIN:VEVENT
DTSTART;VALUE=DATE:20190914
DTEND;VALUE=DATE:20190915
DTSTAMP:20260422T231304
CREATED:20190807T144444Z
LAST-MODIFIED:20190807T144444Z
UID:20914-1568419200-1568505599@tgps.co.uk
SUMMARY:11+ Verbal Reasoning Exam
DESCRIPTION:
URL:https://tgps.co.uk/event/11-verbal-reasoning-exam/
END:VEVENT
BEGIN:VEVENT
DTSTART;VALUE=DATE:20190918
DTEND;VALUE=DATE:20190919
DTSTAMP:20260422T231304
CREATED:20190807T144444Z
LAST-MODIFIED:20190807T144444Z
UID:20915-1568764800-1568851199@tgps.co.uk
SUMMARY:U9 Tag Rugby v Ayscoughfee Hall
DESCRIPTION:
URL:https://tgps.co.uk/event/u9-tag-rugby-v-ayscoughfee-hall/
END:VEVENT
BEGIN:VEVENT
DTSTART;VALUE=DATE:20190918
DTEND;VALUE=DATE:20190919
DTSTAMP:20260422T231304
CREATED:20190807T144445Z
LAST-MODIFIED:20190807T144445Z
UID:20916-1568764800-1568851199@tgps.co.uk
SUMMARY:U11 Hockey @ Stamford Festival
DESCRIPTION:
URL:https://tgps.co.uk/event/u11-hockey-stamford-festival/
END:VEVENT
BEGIN:VEVENT
DTSTART;VALUE=DATE:20190918
DTEND;VALUE=DATE:20190919
DTSTAMP:20260422T231304
CREATED:20190807T144445Z
LAST-MODIFIED:20190807T144445Z
UID:20917-1568764800-1568851199@tgps.co.uk
SUMMARY:U11 Rugby @ Stamford Festival
DESCRIPTION:
URL:https://tgps.co.uk/event/u11-rugby-stamford-festival/
END:VEVENT
BEGIN:VEVENT
DTSTART;VALUE=DATE:20190918
DTEND;VALUE=DATE:20190919
DTSTAMP:20260422T231304
CREATED:20190807T144445Z
LAST-MODIFIED:20190807T144445Z
UID:20918-1568764800-1568851199@tgps.co.uk
SUMMARY:U9/U10 Netball v Ayscoughfee Hall
DESCRIPTION:
URL:https://tgps.co.uk/event/u9-u10-netball-v-ayscoughfee-hall/
END:VEVENT
BEGIN:VEVENT
DTSTART;VALUE=DATE:20190920
DTEND;VALUE=DATE:20190921
DTSTAMP:20260422T231304
CREATED:20190807T144445Z
LAST-MODIFIED:20190807T144445Z
UID:20919-1568937600-1569023999@tgps.co.uk
SUMMARY:U11/U9 Cross Country @ Wellow House
DESCRIPTION:
URL:https://tgps.co.uk/event/u11-u9-cross-country-wellow-house/
END:VEVENT
BEGIN:VEVENT
DTSTART;VALUE=DATE:20190920
DTEND;VALUE=DATE:20190921
DTSTAMP:20260422T231304
CREATED:20190807T144445Z
LAST-MODIFIED:20190807T144445Z
UID:20920-1568937600-1569023999@tgps.co.uk
SUMMARY:Jeans for Genes Day
DESCRIPTION:
URL:https://tgps.co.uk/event/jeans-for-genes-day/
END:VEVENT
BEGIN:VEVENT
DTSTART;VALUE=DATE:20190921
DTEND;VALUE=DATE:20190922
DTSTAMP:20260422T231304
CREATED:20190807T144446Z
LAST-MODIFIED:20190807T144446Z
UID:20921-1569024000-1569110399@tgps.co.uk
SUMMARY:11+ Non Verbal Examination
DESCRIPTION:
URL:https://tgps.co.uk/event/11-non-verbal-examination/
END:VEVENT
BEGIN:VEVENT
DTSTART;VALUE=DATE:20190925
DTEND;VALUE=DATE:20190926
DTSTAMP:20260422T231304
CREATED:20190807T144446Z
LAST-MODIFIED:20190807T144446Z
UID:20924-1569369600-1569455999@tgps.co.uk
SUMMARY:U11 Netball v Ayscoughfee Hall
DESCRIPTION:
URL:https://tgps.co.uk/event/u11-netball-v-ayscoughfee-hall/
END:VEVENT
BEGIN:VEVENT
DTSTART;VALUE=DATE:20190925
DTEND;VALUE=DATE:20190926
DTSTAMP:20260422T231304
CREATED:20190807T144446Z
LAST-MODIFIED:20190807T144446Z
UID:20922-1569369600-1569455999@tgps.co.uk
SUMMARY:U11 Hockey v Witham Hall
DESCRIPTION:
URL:https://tgps.co.uk/event/u11-hockey-v-witham-hall/
END:VEVENT
BEGIN:VEVENT
DTSTART;VALUE=DATE:20190925
DTEND;VALUE=DATE:20190926
DTSTAMP:20260422T231304
CREATED:20190807T144446Z
LAST-MODIFIED:20190807T144446Z
UID:20923-1569369600-1569455999@tgps.co.uk
SUMMARY:U9 Tag Rugby v Ayscoughfee Hall
DESCRIPTION:
URL:https://tgps.co.uk/event/u9-tag-rugby-v-ayscoughfee-hall-2/
END:VEVENT
BEGIN:VEVENT
DTSTART;VALUE=DATE:20191001
DTEND;VALUE=DATE:20191002
DTSTAMP:20260422T231304
CREATED:20190807T144446Z
LAST-MODIFIED:20190807T144446Z
UID:20925-1569888000-1569974399@tgps.co.uk
SUMMARY:Lincolnshire Day
DESCRIPTION:
URL:https://tgps.co.uk/event/lincolnshire-day/
END:VEVENT
BEGIN:VEVENT
DTSTART;VALUE=DATE:20191002
DTEND;VALUE=DATE:20191003
DTSTAMP:20260422T231304
CREATED:20190807T144447Z
LAST-MODIFIED:20190807T144447Z
UID:20926-1569974400-1570060799@tgps.co.uk
SUMMARY:Years 3-6 Witham Cross Country
DESCRIPTION:
URL:https://tgps.co.uk/event/years-3-6-witham-cross-country/
END:VEVENT
BEGIN:VEVENT
DTSTART;VALUE=DATE:20191003
DTEND;VALUE=DATE:20191004
DTSTAMP:20260422T231304
CREATED:20190807T144447Z
LAST-MODIFIED:20190807T144447Z
UID:20927-1570060800-1570147199@tgps.co.uk
SUMMARY:U11 Hi 5 G&D Netball League
DESCRIPTION:
URL:https://tgps.co.uk/event/u11-hi-5-gd-netball-league/
END:VEVENT
BEGIN:VEVENT
DTSTART;VALUE=DATE:20191004
DTEND;VALUE=DATE:20191005
DTSTAMP:20260422T231304
CREATED:20190807T144447Z
LAST-MODIFIED:20190807T144447Z
UID:20928-1570147200-1570233599@tgps.co.uk
SUMMARY:Cross Country @ Rutland Water
DESCRIPTION:
URL:https://tgps.co.uk/event/cross-country-rutland-water/
END:VEVENT
BEGIN:VEVENT
DTSTART;VALUE=DATE:20191005
DTEND;VALUE=DATE:20191006
DTSTAMP:20260422T231304
CREATED:20190807T144447Z
LAST-MODIFIED:20190807T144447Z
UID:20929-1570233600-1570319999@tgps.co.uk
SUMMARY:Choir singing at Grantham Music Festival Concert
DESCRIPTION:
URL:https://tgps.co.uk/event/choir-singing-at-grantham-music-festival-concert/
END:VEVENT
BEGIN:VEVENT
DTSTART;VALUE=DATE:20191008
DTEND;VALUE=DATE:20191009
DTSTAMP:20260422T231304
CREATED:20190807T144447Z
LAST-MODIFIED:20190807T144447Z
UID:20930-1570492800-1570579199@tgps.co.uk
SUMMARY:U11/U10/U9 ISA Swimming Gala @ Walsall Baths
DESCRIPTION:
URL:https://tgps.co.uk/event/u11-u10-u9-isa-swimming-gala-walsall-baths/
END:VEVENT
BEGIN:VEVENT
DTSTART;VALUE=DATE:20191008
DTEND;VALUE=DATE:20191009
DTSTAMP:20260422T231304
CREATED:20190807T144448Z
LAST-MODIFIED:20190807T144448Z
UID:20931-1570492800-1570579199@tgps.co.uk
SUMMARY:Oakham Music Day
DESCRIPTION:
URL:https://tgps.co.uk/event/oakham-music-day/
END:VEVENT
BEGIN:VEVENT
DTSTART;VALUE=DATE:20191009
DTEND;VALUE=DATE:20191010
DTSTAMP:20260422T231304
CREATED:20190807T144448Z
LAST-MODIFIED:20190807T144448Z
UID:20932-1570579200-1570665599@tgps.co.uk
SUMMARY:U9 Hockey v St Hugh's
DESCRIPTION:
URL:https://tgps.co.uk/event/u9-hockey-v-st-hughs/
END:VEVENT
BEGIN:VEVENT
DTSTART;VALUE=DATE:20191009
DTEND;VALUE=DATE:20191010
DTSTAMP:20260422T231304
CREATED:20190807T144448Z
LAST-MODIFIED:20190807T144448Z
UID:20933-1570579200-1570665599@tgps.co.uk
SUMMARY:U9 Tag Rugby v St Hugh's
DESCRIPTION:
URL:https://tgps.co.uk/event/u9-tag-rugby-v-st-hughs/
END:VEVENT
BEGIN:VEVENT
DTSTART;VALUE=DATE:20191010
DTEND;VALUE=DATE:20191011
DTSTAMP:20260422T231304
CREATED:20190807T144448Z
LAST-MODIFIED:20190807T144448Z
UID:20934-1570665600-1570751999@tgps.co.uk
SUMMARY:Flu immunisations Rec - Year 6
DESCRIPTION:
URL:https://tgps.co.uk/event/flu-immunisations-rec-year-6/
END:VEVENT
BEGIN:VEVENT
DTSTART;VALUE=DATE:20191010
DTEND;VALUE=DATE:20191011
DTSTAMP:20260422T231304
CREATED:20190807T144448Z
LAST-MODIFIED:20190807T144448Z
UID:20935-1570665600-1570751999@tgps.co.uk
SUMMARY:U11 HI 5 Netball G&D League
DESCRIPTION:
URL:https://tgps.co.uk/event/u11-hi-5-netball-gd-league/
END:VEVENT
BEGIN:VEVENT
DTSTART;VALUE=DATE:20191011
DTEND;VALUE=DATE:20191012
DTSTAMP:20260422T231304
CREATED:20190807T144449Z
LAST-MODIFIED:20190807T144449Z
UID:20936-1570752000-1570838399@tgps.co.uk
SUMMARY:Y3 & Y4 visit to Cadburys World
DESCRIPTION:
URL:https://tgps.co.uk/event/y3-y4-visit-to-cadburys-world/
END:VEVENT
BEGIN:VEVENT
DTSTART;VALUE=DATE:20191016
DTEND;VALUE=DATE:20191017
DTSTAMP:20260422T231304
CREATED:20190807T144449Z
LAST-MODIFIED:20190807T144449Z
UID:20937-1571184000-1571270399@tgps.co.uk
SUMMARY:U11 Rugby v Copthill
DESCRIPTION:
URL:https://tgps.co.uk/event/u11-rugby-v-copthill/
END:VEVENT
BEGIN:VEVENT
DTSTART;VALUE=DATE:20191016
DTEND;VALUE=DATE:20191017
DTSTAMP:20260422T231304
CREATED:20190807T144449Z
LAST-MODIFIED:20190807T144449Z
UID:20938-1571184000-1571270399@tgps.co.uk
SUMMARY:U10 Hockey v Witham
DESCRIPTION:
URL:https://tgps.co.uk/event/u10-hockey-v-witham/
END:VEVENT
BEGIN:VEVENT
DTSTART;VALUE=DATE:20191017
DTEND;VALUE=DATE:20191018
DTSTAMP:20260422T231304
CREATED:20190807T144449Z
LAST-MODIFIED:20190807T144449Z
UID:20939-1571270400-1571356799@tgps.co.uk
SUMMARY:Halloween Disco
DESCRIPTION:
URL:https://tgps.co.uk/event/halloween-disco/
END:VEVENT
BEGIN:VEVENT
DTSTART;VALUE=DATE:20191018
DTEND;VALUE=DATE:20191019
DTSTAMP:20260422T231304
CREATED:20190807T144449Z
LAST-MODIFIED:20190807T144449Z
UID:20940-1571356800-1571443199@tgps.co.uk
SUMMARY:Break up for Half Term
DESCRIPTION:
URL:https://tgps.co.uk/event/break-up-for-half-term/
END:VEVENT
BEGIN:VEVENT
DTSTART;VALUE=DATE:20191018
DTEND;VALUE=DATE:20191019
DTSTAMP:20260422T231304
CREATED:20190807T144450Z
LAST-MODIFIED:20190807T144450Z
UID:20941-1571356800-1571443199@tgps.co.uk
SUMMARY:Y6 visit to Royal Academy of Arts
DESCRIPTION:
URL:https://tgps.co.uk/event/y6-visit-to-royal-academy-of-arts-2/
END:VEVENT
END:VCALENDAR