BEGIN:VCALENDAR
VERSION:2.0
PRODID:-//Grantham Preparatory International School - ECPv6.15.17//NONSGML v1.0//EN
CALSCALE:GREGORIAN
METHOD:PUBLISH
X-WR-CALNAME:Grantham Preparatory International School
X-ORIGINAL-URL:https://tgps.co.uk
X-WR-CALDESC:Events for Grantham Preparatory International School
REFRESH-INTERVAL;VALUE=DURATION:PT1H
X-Robots-Tag:noindex
X-PUBLISHED-TTL:PT1H
BEGIN:VTIMEZONE
TZID:Europe/London
BEGIN:DAYLIGHT
TZOFFSETFROM:+0000
TZOFFSETTO:+0100
TZNAME:BST
DTSTART:20170326T010000
END:DAYLIGHT
BEGIN:STANDARD
TZOFFSETFROM:+0100
TZOFFSETTO:+0000
TZNAME:GMT
DTSTART:20171029T010000
END:STANDARD
BEGIN:DAYLIGHT
TZOFFSETFROM:+0000
TZOFFSETTO:+0100
TZNAME:BST
DTSTART:20180325T010000
END:DAYLIGHT
BEGIN:STANDARD
TZOFFSETFROM:+0100
TZOFFSETTO:+0000
TZNAME:GMT
DTSTART:20181028T010000
END:STANDARD
BEGIN:DAYLIGHT
TZOFFSETFROM:+0000
TZOFFSETTO:+0100
TZNAME:BST
DTSTART:20190331T010000
END:DAYLIGHT
BEGIN:STANDARD
TZOFFSETFROM:+0100
TZOFFSETTO:+0000
TZNAME:GMT
DTSTART:20191027T010000
END:STANDARD
END:VTIMEZONE
BEGIN:VEVENT
DTSTART;VALUE=DATE:20180704
DTEND;VALUE=DATE:20180705
DTSTAMP:20260423T204243
CREATED:20180405T170809Z
LAST-MODIFIED:20180405T170809Z
UID:8682-1530662400-1530748799@tgps.co.uk
SUMMARY:Reserve Sports Day (2)
DESCRIPTION:This event has a Google Hangouts video call.Join: https://plus.google.com/hangouts/_/iesmail.com/reserve-sports?hceid=aWVzbWFpbC5jb21fZWhxZmM4bXJkbDZvNmRsazRyZ2M5dHAxaWtAZ3JvdXAuY2FsZW5kYXIuZ29vZ2xlLmNvbQ.22erf8rjrdo5ips5rbo4lr6plq&hs=121
URL:https://tgps.co.uk/event/reserve-sports-day-2/
END:VEVENT
BEGIN:VEVENT
DTSTART;VALUE=DATE:20180709
DTEND;VALUE=DATE:20180710
DTSTAMP:20260423T204243
CREATED:20180405T170809Z
LAST-MODIFIED:20180405T170809Z
UID:8683-1531094400-1531180799@tgps.co.uk
SUMMARY:Speech Day
DESCRIPTION:This event has a Google Hangouts video call.Join: https://plus.google.com/hangouts/_/iesmail.com/speech-day?hceid=aWVzbWFpbC5jb21fZWhxZmM4bXJkbDZvNmRsazRyZ2M5dHAxaWtAZ3JvdXAuY2FsZW5kYXIuZ29vZ2xlLmNvbQ.23rq3r9f1io97feqoeu8jdm2vk&hs=121
URL:https://tgps.co.uk/event/speech-day/
END:VEVENT
BEGIN:VEVENT
DTSTART;VALUE=DATE:20180713
DTEND;VALUE=DATE:20180714
DTSTAMP:20260423T204243
CREATED:20180405T170810Z
LAST-MODIFIED:20180405T170810Z
UID:8684-1531440000-1531526399@tgps.co.uk
SUMMARY:End of Term - 12.30pm finish
DESCRIPTION:This event has a Google Hangouts video call.Join: https://plus.google.com/hangouts/_/iesmail.com/end-of-term-12?hceid=aWVzbWFpbC5jb21fZWhxZmM4bXJkbDZvNmRsazRyZ2M5dHAxaWtAZ3JvdXAuY2FsZW5kYXIuZ29vZ2xlLmNvbQ.3odl2ji792o78vofppku3thpne&hs=121
URL:https://tgps.co.uk/event/end-of-term-12-30pm-finish/
END:VEVENT
END:VCALENDAR