BEGIN:VCALENDAR
VERSION:2.0
PRODID:-//Grantham Preparatory International School - ECPv6.15.17//NONSGML v1.0//EN
CALSCALE:GREGORIAN
METHOD:PUBLISH
X-ORIGINAL-URL:https://tgps.co.uk
X-WR-CALDESC:Events for Grantham Preparatory International School
REFRESH-INTERVAL;VALUE=DURATION:PT1H
X-Robots-Tag:noindex
X-PUBLISHED-TTL:PT1H
BEGIN:VTIMEZONE
TZID:Europe/London
BEGIN:DAYLIGHT
TZOFFSETFROM:+0000
TZOFFSETTO:+0100
TZNAME:BST
DTSTART:20170326T010000
END:DAYLIGHT
BEGIN:STANDARD
TZOFFSETFROM:+0100
TZOFFSETTO:+0000
TZNAME:GMT
DTSTART:20171029T010000
END:STANDARD
BEGIN:DAYLIGHT
TZOFFSETFROM:+0000
TZOFFSETTO:+0100
TZNAME:BST
DTSTART:20180325T010000
END:DAYLIGHT
BEGIN:STANDARD
TZOFFSETFROM:+0100
TZOFFSETTO:+0000
TZNAME:GMT
DTSTART:20181028T010000
END:STANDARD
BEGIN:DAYLIGHT
TZOFFSETFROM:+0000
TZOFFSETTO:+0100
TZNAME:BST
DTSTART:20190331T010000
END:DAYLIGHT
BEGIN:STANDARD
TZOFFSETFROM:+0100
TZOFFSETTO:+0000
TZNAME:GMT
DTSTART:20191027T010000
END:STANDARD
END:VTIMEZONE
BEGIN:VEVENT
DTSTART;VALUE=DATE:20181002
DTEND;VALUE=DATE:20181003
DTSTAMP:20260423T163833
CREATED:20180803T134341Z
LAST-MODIFIED:20180803T134341Z
UID:11670-1538438400-1538524799@tgps.co.uk
SUMMARY:"Flavours of Folk" Strings Festival at Oakham
DESCRIPTION:
URL:https://tgps.co.uk/event/flavours-of-folk-strings-festival-at-oakham/
END:VEVENT
BEGIN:VEVENT
DTSTART;VALUE=DATE:20181003
DTEND;VALUE=DATE:20181004
DTSTAMP:20260423T163833
CREATED:20180803T134341Z
LAST-MODIFIED:20180803T134341Z
UID:11671-1538524800-1538611199@tgps.co.uk
SUMMARY:Witham Cross Country Years 3 - Years 6 (away)
DESCRIPTION:
URL:https://tgps.co.uk/event/witham-cross-country-years-3-years-6-away/
END:VEVENT
BEGIN:VEVENT
DTSTART;VALUE=DATE:20181005
DTEND;VALUE=DATE:20181006
DTSTAMP:20260423T163833
CREATED:20180822T124413Z
LAST-MODIFIED:20180822T124413Z
UID:12137-1538697600-1538783999@tgps.co.uk
SUMMARY:Cross Country @ Brooke Priory (away)
DESCRIPTION:
URL:https://tgps.co.uk/event/cross-country-brooke-priory-away/
END:VEVENT
BEGIN:VEVENT
DTSTART;VALUE=DATE:20181008
DTEND;VALUE=DATE:20181009
DTSTAMP:20260423T163833
CREATED:20180822T124413Z
LAST-MODIFIED:20180822T124413Z
UID:12138-1538956800-1539043199@tgps.co.uk
SUMMARY:Y6 School visit to Southwell Workhouse
DESCRIPTION:
URL:https://tgps.co.uk/event/y6-school-visit-to-southwell-workhouse/
END:VEVENT
BEGIN:VEVENT
DTSTART;VALUE=DATE:20181009
DTEND;VALUE=DATE:20181010
DTSTAMP:20260423T163833
CREATED:20180822T124413Z
LAST-MODIFIED:20180822T124413Z
UID:12139-1539043200-1539129599@tgps.co.uk
SUMMARY:U11/U10/U9 ISA Swimming Gala\, Walsall
DESCRIPTION:
URL:https://tgps.co.uk/event/u11u10u9-isa-swimming-gala-walsall/
END:VEVENT
BEGIN:VEVENT
DTSTART;VALUE=DATE:20181010
DTEND;VALUE=DATE:20181011
DTSTAMP:20260423T163833
CREATED:20180822T124413Z
LAST-MODIFIED:20180822T124413Z
UID:12140-1539129600-1539215999@tgps.co.uk
SUMMARY:U9 Hockey v St Hugh's (away)
DESCRIPTION:
URL:https://tgps.co.uk/event/u9-hockey-v-st-hughs-away/
END:VEVENT
BEGIN:VEVENT
DTSTART;VALUE=DATE:20181010
DTEND;VALUE=DATE:20181011
DTSTAMP:20260423T163833
CREATED:20180822T124413Z
LAST-MODIFIED:20180822T124413Z
UID:12141-1539129600-1539215999@tgps.co.uk
SUMMARY:U8 Tag Rugby v St Hugh's (away)
DESCRIPTION:
URL:https://tgps.co.uk/event/u8-tag-rugby-v-st-hughs-away/
END:VEVENT
BEGIN:VEVENT
DTSTART;VALUE=DATE:20181017
DTEND;VALUE=DATE:20181018
DTSTAMP:20260423T163833
CREATED:20180822T124414Z
LAST-MODIFIED:20180822T124414Z
UID:12142-1539734400-1539820799@tgps.co.uk
SUMMARY:U11 Hockey v Lincoln Minster (away)
DESCRIPTION:
URL:https://tgps.co.uk/event/u11-hockey-v-lincoln-minster-away/
END:VEVENT
BEGIN:VEVENT
DTSTART;VALUE=DATE:20181018
DTEND;VALUE=DATE:20181019
DTSTAMP:20260423T163833
CREATED:20180822T124414Z
LAST-MODIFIED:20180822T124414Z
UID:12143-1539820800-1539907199@tgps.co.uk
SUMMARY:Exchange Visit to Valencia\, Spain
DESCRIPTION:
URL:https://tgps.co.uk/event/exchange-visit-to-valencia-spain/
END:VEVENT
BEGIN:VEVENT
DTSTART;VALUE=DATE:20181019
DTEND;VALUE=DATE:20181020
DTSTAMP:20260423T163833
CREATED:20180822T124414Z
LAST-MODIFIED:20180822T124414Z
UID:12144-1539907200-1539993599@tgps.co.uk
SUMMARY:School closes for Half Term
DESCRIPTION:
URL:https://tgps.co.uk/event/school-closes-for-half-term/
END:VEVENT
BEGIN:VEVENT
DTSTART;VALUE=DATE:20181022
DTEND;VALUE=DATE:20181023
DTSTAMP:20260423T163833
CREATED:20180822T124414Z
LAST-MODIFIED:20180822T124414Z
UID:12145-1540166400-1540252799@tgps.co.uk
SUMMARY:Pupils return from Valencia
DESCRIPTION:
URL:https://tgps.co.uk/event/pupils-return-from-valencia/
END:VEVENT
END:VCALENDAR